BEGIN:VCALENDAR
VERSION:2.0
PRODID:-//Museum of Early Trades &amp; Crafts - ECPv6.15.20//NONSGML v1.0//EN
CALSCALE:GREGORIAN
METHOD:PUBLISH
X-WR-CALNAME:Museum of Early Trades &amp; Crafts
X-ORIGINAL-URL:https://metc.org
X-WR-CALDESC:Events for Museum of Early Trades &amp; Crafts
REFRESH-INTERVAL;VALUE=DURATION:PT1H
X-Robots-Tag:noindex
X-PUBLISHED-TTL:PT1H
BEGIN:VTIMEZONE
TZID:America/New_York
BEGIN:DAYLIGHT
TZOFFSETFROM:-0500
TZOFFSETTO:-0400
TZNAME:EDT
DTSTART:20210314T070000
END:DAYLIGHT
BEGIN:STANDARD
TZOFFSETFROM:-0400
TZOFFSETTO:-0500
TZNAME:EST
DTSTART:20211107T060000
END:STANDARD
BEGIN:DAYLIGHT
TZOFFSETFROM:-0500
TZOFFSETTO:-0400
TZNAME:EDT
DTSTART:20220313T070000
END:DAYLIGHT
BEGIN:STANDARD
TZOFFSETFROM:-0400
TZOFFSETTO:-0500
TZNAME:EST
DTSTART:20221106T060000
END:STANDARD
BEGIN:DAYLIGHT
TZOFFSETFROM:-0500
TZOFFSETTO:-0400
TZNAME:EDT
DTSTART:20230312T070000
END:DAYLIGHT
BEGIN:STANDARD
TZOFFSETFROM:-0400
TZOFFSETTO:-0500
TZNAME:EST
DTSTART:20231105T060000
END:STANDARD
BEGIN:DAYLIGHT
TZOFFSETFROM:-0500
TZOFFSETTO:-0400
TZNAME:EDT
DTSTART:20240310T070000
END:DAYLIGHT
BEGIN:STANDARD
TZOFFSETFROM:-0400
TZOFFSETTO:-0500
TZNAME:EST
DTSTART:20241103T060000
END:STANDARD
END:VTIMEZONE
BEGIN:VEVENT
DTSTART;TZID=America/New_York:20220604T110000
DTEND;TZID=America/New_York:20220604T120000
DTSTAMP:20260422T233428
CREATED:20211215T182741Z
LAST-MODIFIED:20211215T182741Z
UID:22314-1654340400-1654344000@metc.org
SUMMARY:Architectural Walking Tour
DESCRIPTION:Join us for a collaborative workspace for caregivers and children ages 6 and under.  On August 6\, play with blocks\, puzzles\, and beads\, get creative with coloring\, build with Legos\, and more! $10 per family\, free for members.
URL:https://metc.org/event/architectural-walking-tour/
LOCATION:Museum of Early Trades & Crafts\, 9 Main Street\, Madison\, NJ\, 07940\, United States
CATEGORIES:Event,Family
ATTACH;FMTTYPE=image/jpeg:https://metc.org/wp-content/uploads/2020/04/METC-generic-thumbnail.jpg
ORGANIZER;CN="Museum of Early Trades & Crafts":MAILTO:coordinator@metc.org
END:VEVENT
BEGIN:VEVENT
DTSTART;TZID=America/New_York:20220611T110000
DTEND;TZID=America/New_York:20220611T130000
DTSTAMP:20260422T233429
CREATED:20220331T200600Z
LAST-MODIFIED:20220331T200600Z
UID:22998-1654945200-1654952400@metc.org
SUMMARY:Summer Drop In Craft: Pet Rocks
DESCRIPTION:Join us for a collaborative workspace for caregivers and children ages 6 and under.  On August 6\, play with blocks\, puzzles\, and beads\, get creative with coloring\, build with Legos\, and more! $10 per family\, free for members.
URL:https://metc.org/event/summer-drop-in-craft-pet-rocks/
LOCATION:Education Annex\, 23 Main Street\, Madison\, NJ\, 07940\, United States
CATEGORIES:Event,Family
ATTACH;FMTTYPE=image/jpeg:https://metc.org/wp-content/uploads/2022/03/Pet-Rock-Drop-In.jpg
ORGANIZER;CN="Museum of Early Trades & Crafts":MAILTO:coordinator@metc.org
END:VEVENT
BEGIN:VEVENT
DTSTART;TZID=America/New_York:20220615T183000
DTEND;TZID=America/New_York:20220615T193000
DTSTAMP:20260422T233429
CREATED:20220505T163251Z
LAST-MODIFIED:20220505T163251Z
UID:23136-1655317800-1655321400@metc.org
SUMMARY:Community Discussion: LGBTQ+ PRIDE Panel
DESCRIPTION:Join us for a collaborative workspace for caregivers and children ages 6 and under.  On August 6\, play with blocks\, puzzles\, and beads\, get creative with coloring\, build with Legos\, and more! $10 per family\, free for members.
URL:https://metc.org/event/community-discussion-lgbtq-pride-panel/
LOCATION:Education Annex\, 23 Main Street\, Madison\, NJ\, 07940\, United States
CATEGORIES:Event
ATTACH;FMTTYPE=image/jpeg:https://metc.org/wp-content/uploads/2022/05/Madison-Pride-flags.jpg
ORGANIZER;CN="Museum of Early Trades & Crafts":MAILTO:coordinator@metc.org
END:VEVENT
BEGIN:VEVENT
DTSTART;TZID=America/New_York:20220624T180000
DTEND;TZID=America/New_York:20220624T200000
DTSTAMP:20260422T233429
CREATED:20220331T192034Z
LAST-MODIFIED:20220331T192034Z
UID:22969-1656093600-1656100800@metc.org
SUMMARY:Summer Concert Series: Jumping the Gun
DESCRIPTION:Join us for a collaborative workspace for caregivers and children ages 6 and under.  On August 6\, play with blocks\, puzzles\, and beads\, get creative with coloring\, build with Legos\, and more! $10 per family\, free for members.
URL:https://metc.org/event/summer-concert-series-jumping-the-gun/
LOCATION:Museum of Early Trades & Crafts\, 9 Main Street\, Madison\, NJ\, 07940\, United States
CATEGORIES:Event,Family
ATTACH;FMTTYPE=image/jpeg:https://metc.org/wp-content/uploads/2022/03/Jumping-the-Gun.jpg
ORGANIZER;CN="Museum of Early Trades & Crafts":MAILTO:coordinator@metc.org
END:VEVENT
BEGIN:VEVENT
DTSTART;TZID=America/New_York:20220708T180000
DTEND;TZID=America/New_York:20220708T200000
DTSTAMP:20260422T233429
CREATED:20220331T192641Z
LAST-MODIFIED:20220331T192641Z
UID:22973-1657303200-1657310400@metc.org
SUMMARY:Summer Concert Series Zaire
DESCRIPTION:Join us for a collaborative workspace for caregivers and children ages 6 and under.  On August 6\, play with blocks\, puzzles\, and beads\, get creative with coloring\, build with Legos\, and more! $10 per family\, free for members.
URL:https://metc.org/event/summer-concert-series-zaire/
LOCATION:Museum of Early Trades & Crafts\, 9 Main Street\, Madison\, NJ\, 07940\, United States
CATEGORIES:Event,Family
ATTACH;FMTTYPE=image/jpeg:https://metc.org/wp-content/uploads/2022/03/Zaire.jpg
ORGANIZER;CN="Museum of Early Trades & Crafts":MAILTO:coordinator@metc.org
END:VEVENT
BEGIN:VEVENT
DTSTART;TZID=America/New_York:20220713T100000
DTEND;TZID=America/New_York:20220713T140000
DTSTAMP:20260422T233429
CREATED:20220210T162821Z
LAST-MODIFIED:20220210T162821Z
UID:22804-1657706400-1657720800@metc.org
SUMMARY:Summer Drop in Crafts at METC - Coding
DESCRIPTION:Join us for a collaborative workspace for caregivers and children ages 6 and under.  On August 6\, play with blocks\, puzzles\, and beads\, get creative with coloring\, build with Legos\, and more! $10 per family\, free for members.
URL:https://metc.org/event/summer-enrichment-camp-at-metc/
LOCATION:Education Annex\, 23 Main Street\, Madison\, NJ\, 07940\, United States
CATEGORIES:Family,homeschool
ATTACH;FMTTYPE=image/jpeg:https://metc.org/wp-content/uploads/2022/02/x-1.jpg
END:VEVENT
BEGIN:VEVENT
DTSTART;TZID=America/New_York:20220714T100000
DTEND;TZID=America/New_York:20220714T140000
DTSTAMP:20260422T233429
CREATED:20220629T155645Z
LAST-MODIFIED:20220629T155645Z
UID:23459-1657792800-1657807200@metc.org
SUMMARY:Summer Drop in Crafts at METC - Engineering
DESCRIPTION:Join us for a collaborative workspace for caregivers and children ages 6 and under.  On August 6\, play with blocks\, puzzles\, and beads\, get creative with coloring\, build with Legos\, and more! $10 per family\, free for members.
URL:https://metc.org/event/summer-drop-in-crafts-at-metc-engineering/
LOCATION:Education Annex\, 23 Main Street\, Madison\, NJ\, 07940\, United States
CATEGORIES:Family,homeschool
ATTACH;FMTTYPE=image/png:https://metc.org/wp-content/uploads/2022/06/2022-Summer-Camps-METC-Instagram-Post-Presentation-169-1.png
END:VEVENT
BEGIN:VEVENT
DTSTART;TZID=America/New_York:20220716T130000
DTEND;TZID=America/New_York:20220716T160000
DTSTAMP:20260422T233429
CREATED:20220329T191407Z
LAST-MODIFIED:20220329T191407Z
UID:22957-1657976400-1657987200@metc.org
SUMMARY:Family Fun Day
DESCRIPTION:Join us for a collaborative workspace for caregivers and children ages 6 and under.  On August 6\, play with blocks\, puzzles\, and beads\, get creative with coloring\, build with Legos\, and more! $10 per family\, free for members.
URL:https://metc.org/event/family-fun-day-2/
LOCATION:Museum of Early Trades & Crafts\, 9 Main Street\, Madison\, NJ\, 07940\, United States
CATEGORIES:Event,Exhibit,Family
ATTACH;FMTTYPE=image/jpeg:https://metc.org/wp-content/uploads/2022/03/Fighting-Fire-IG-sponsor-logo.jpg
ORGANIZER;CN="Museum of Early Trades & Crafts":MAILTO:coordinator@metc.org
END:VEVENT
BEGIN:VEVENT
DTSTART;TZID=America/New_York:20220720T100000
DTEND;TZID=America/New_York:20220720T140000
DTSTAMP:20260422T233429
CREATED:20220622T173927Z
LAST-MODIFIED:20220622T173927Z
UID:23448-1658311200-1658325600@metc.org
SUMMARY:Summer Drop in Craft - Stained Glass Windows
DESCRIPTION:Join us for a collaborative workspace for caregivers and children ages 6 and under.  On August 6\, play with blocks\, puzzles\, and beads\, get creative with coloring\, build with Legos\, and more! $10 per family\, free for members.
URL:https://metc.org/event/summer-camps-at-metc-art-week/
LOCATION:Education Annex\, 23 Main Street\, Madison\, NJ\, 07940\, United States
CATEGORIES:Family,homeschool
ATTACH;FMTTYPE=image/jpeg:https://metc.org/wp-content/uploads/2021/05/PenSword.jpg
END:VEVENT
BEGIN:VEVENT
DTSTART;TZID=America/New_York:20220722T180000
DTEND;TZID=America/New_York:20220722T200000
DTSTAMP:20260422T233429
CREATED:20220331T192833Z
LAST-MODIFIED:20220331T192833Z
UID:22977-1658512800-1658520000@metc.org
SUMMARY:Summer Concert Series: Best of Broadway
DESCRIPTION:Join us for a collaborative workspace for caregivers and children ages 6 and under.  On August 6\, play with blocks\, puzzles\, and beads\, get creative with coloring\, build with Legos\, and more! $10 per family\, free for members.
URL:https://metc.org/event/summer-concert-series-best-of-broadway/
LOCATION:Museum of Early Trades & Crafts\, 9 Main Street\, Madison\, NJ\, 07940\, United States
CATEGORIES:Event,Family
ATTACH;FMTTYPE=application/pdf:https://metc.org/wp-content/uploads/2022/03/Stars-of-Broadway-and-Opera.pdf
ORGANIZER;CN="Museum of Early Trades & Crafts":MAILTO:coordinator@metc.org
END:VEVENT
BEGIN:VEVENT
DTSTART;TZID=America/New_York:20220805T180000
DTEND;TZID=America/New_York:20220805T200000
DTSTAMP:20260422T233429
CREATED:20220331T193029Z
LAST-MODIFIED:20220331T193029Z
UID:22981-1659722400-1659729600@metc.org
SUMMARY:Summer Concert Series: The Thorns
DESCRIPTION:Join us for a collaborative workspace for caregivers and children ages 6 and under.  On August 6\, play with blocks\, puzzles\, and beads\, get creative with coloring\, build with Legos\, and more! $10 per family\, free for members.
URL:https://metc.org/event/summer-concert-series-the-thorns/
LOCATION:Museum of Early Trades & Crafts\, 9 Main Street\, Madison\, NJ\, 07940\, United States
CATEGORIES:Event,Family
ATTACH;FMTTYPE=image/jpeg:https://metc.org/wp-content/uploads/2022/03/Thorns.jpg
ORGANIZER;CN="Museum of Early Trades & Crafts":MAILTO:coordinator@metc.org
END:VEVENT
BEGIN:VEVENT
DTSTART;TZID=America/New_York:20220819T180000
DTEND;TZID=America/New_York:20220819T200000
DTSTAMP:20260422T233429
CREATED:20220331T193231Z
LAST-MODIFIED:20220331T193231Z
UID:22985-1660932000-1660939200@metc.org
SUMMARY:Summer Concert Series: Peter & the Master Keys
DESCRIPTION:Join us for a collaborative workspace for caregivers and children ages 6 and under.  On August 6\, play with blocks\, puzzles\, and beads\, get creative with coloring\, build with Legos\, and more! $10 per family\, free for members.
URL:https://metc.org/event/summer-concert-series-peter-the-master-keys/
LOCATION:Museum of Early Trades & Crafts\, 9 Main Street\, Madison\, NJ\, 07940\, United States
CATEGORIES:Event,Family
ATTACH;FMTTYPE=image/jpeg:https://metc.org/wp-content/uploads/2022/03/Peter-and-the-Master-Keys.jpg
ORGANIZER;CN="Museum of Early Trades & Crafts":MAILTO:coordinator@metc.org
END:VEVENT
BEGIN:VEVENT
DTSTART;TZID=America/New_York:20220820T150000
DTEND;TZID=America/New_York:20220820T160000
DTSTAMP:20260422T233429
CREATED:20220812T194448Z
LAST-MODIFIED:20220812T194448Z
UID:23831-1661007600-1661011200@metc.org
SUMMARY:From Immigrants to Influencers Exhibit Launch
DESCRIPTION:Join us for a collaborative workspace for caregivers and children ages 6 and under.  On August 6\, play with blocks\, puzzles\, and beads\, get creative with coloring\, build with Legos\, and more! $10 per family\, free for members.
URL:https://metc.org/event/from-immigrants-to-influencers-exhibit-launch/
LOCATION:Education Annex\, 23 Main Street\, Madison\, NJ\, 07940\, United States
CATEGORIES:Exhibit
ATTACH;FMTTYPE=image/jpeg:https://metc.org/wp-content/uploads/2022/08/IG-Immigrants-to-Influencers.jpg
ORGANIZER;CN="Museum of Early Trades & Crafts":MAILTO:coordinator@metc.org
END:VEVENT
BEGIN:VEVENT
DTSTART;TZID=America/New_York:20220902T180000
DTEND;TZID=America/New_York:20220902T200000
DTSTAMP:20260422T233429
CREATED:20220331T194016Z
LAST-MODIFIED:20220331T194016Z
UID:22989-1662141600-1662148800@metc.org
SUMMARY:Summer Concert Series: Rosewood
DESCRIPTION:Join us for a collaborative workspace for caregivers and children ages 6 and under.  On August 6\, play with blocks\, puzzles\, and beads\, get creative with coloring\, build with Legos\, and more! $10 per family\, free for members.
URL:https://metc.org/event/summer-concert-series-rosewood/
LOCATION:Museum of Early Trades & Crafts\, 9 Main Street\, Madison\, NJ\, 07940\, United States
CATEGORIES:Event,Family
ATTACH;FMTTYPE=image/jpeg:https://metc.org/wp-content/uploads/2022/03/Untitled-design.jpg
ORGANIZER;CN="Museum of Early Trades & Crafts":MAILTO:coordinator@metc.org
END:VEVENT
BEGIN:VEVENT
DTSTART;TZID=America/New_York:20220910T140000
DTEND;TZID=America/New_York:20220910T160000
DTSTAMP:20260422T233429
CREATED:20220729T175243Z
LAST-MODIFIED:20220729T175243Z
UID:23695-1662818400-1662825600@metc.org
SUMMARY:Hand Lettering Workshop: Make Something Special
DESCRIPTION:Join us for a collaborative workspace for caregivers and children ages 6 and under.  On August 6\, play with blocks\, puzzles\, and beads\, get creative with coloring\, build with Legos\, and more! $10 per family\, free for members.
URL:https://metc.org/event/hand-lettering-workshop-make-something-special/
LOCATION:Education Annex\, 23 Main Street\, Madison\, NJ\, 07940\, United States
CATEGORIES:Event
ATTACH;FMTTYPE=image/jpeg:https://metc.org/wp-content/uploads/2022/07/Hand-Lettering-Make-Something-Special.jpg
ORGANIZER;CN="Museum of Early Trades & Crafts":MAILTO:coordinator@metc.org
END:VEVENT
BEGIN:VEVENT
DTSTART;TZID=America/New_York:20220916T183000
DTEND;TZID=America/New_York:20220916T200000
DTSTAMP:20260422T233429
CREATED:20220722T180232Z
LAST-MODIFIED:20220722T180232Z
UID:23660-1663353000-1663358400@metc.org
SUMMARY:A Night at the Museum
DESCRIPTION:Join us for a collaborative workspace for caregivers and children ages 6 and under.  On August 6\, play with blocks\, puzzles\, and beads\, get creative with coloring\, build with Legos\, and more! $10 per family\, free for members.
URL:https://metc.org/event/a-night-at-the-museum/
LOCATION:Museum of Early Trades & Crafts\, 9 Main Street\, Madison\, NJ\, 07940\, United States
CATEGORIES:Event
ATTACH;FMTTYPE=image/png:https://metc.org/wp-content/uploads/2022/06/Invitation.png
END:VEVENT
BEGIN:VEVENT
DTSTART;TZID=America/New_York:20220926T110000
DTEND;TZID=America/New_York:20220926T150000
DTSTAMP:20260422T233429
CREATED:20220722T184450Z
LAST-MODIFIED:20220722T184450Z
UID:23664-1664190000-1664204400@metc.org
SUMMARY:Drop in Craft - Guatemalan Worry Dolls
DESCRIPTION:Join us for a collaborative workspace for caregivers and children ages 6 and under.  On August 6\, play with blocks\, puzzles\, and beads\, get creative with coloring\, build with Legos\, and more! $10 per family\, free for members.
URL:https://metc.org/event/drop-in-craft-guatemalan-worry-dolls/
LOCATION:Education Annex\, 23 Main Street\, Madison\, NJ\, 07940\, United States
CATEGORIES:Event,Family
ATTACH;FMTTYPE=image/jpeg:https://metc.org/wp-content/uploads/2022/07/Guatemalan-Doll-Drop-in-Craft.jpg
ORGANIZER;CN="Museum of Early Trades & Crafts":MAILTO:coordinator@metc.org
END:VEVENT
BEGIN:VEVENT
DTSTART;TZID=America/New_York:20220929T190000
DTEND;TZID=America/New_York:20220929T200000
DTSTAMP:20260422T233429
CREATED:20220722T191819Z
LAST-MODIFIED:20220722T191819Z
UID:23672-1664478000-1664481600@metc.org
SUMMARY:Latinx Art: Maps\, Madres\, and Malinches
DESCRIPTION:Join us for a collaborative workspace for caregivers and children ages 6 and under.  On August 6\, play with blocks\, puzzles\, and beads\, get creative with coloring\, build with Legos\, and more! $10 per family\, free for members.
URL:https://metc.org/event/latinx-art-maps-madres-and-malinches/
LOCATION:NJ
CATEGORIES:Event
ATTACH;FMTTYPE=image/jpeg:https://metc.org/wp-content/uploads/2022/07/Latinx-Art-Maps-Madres-and-Malinches.jpg
END:VEVENT
BEGIN:VEVENT
DTSTART;TZID=America/New_York:20221008T140000
DTEND;TZID=America/New_York:20221008T160000
DTSTAMP:20260422T233429
CREATED:20220906T204931Z
LAST-MODIFIED:20220906T204931Z
UID:23900-1665237600-1665244800@metc.org
SUMMARY:Mask Making with Artist Dan Fenelon
DESCRIPTION:Join us for a collaborative workspace for caregivers and children ages 6 and under.  On August 6\, play with blocks\, puzzles\, and beads\, get creative with coloring\, build with Legos\, and more! $10 per family\, free for members.
URL:https://metc.org/event/mask-making-with-artist-dan-fenelon/
LOCATION:Education Annex\, 23 Main Street\, Madison\, NJ\, 07940\, United States
CATEGORIES:Family
ATTACH;FMTTYPE=image/jpeg:https://metc.org/wp-content/uploads/2022/09/Mask-Making-Workshop-with-Artist-Dan-Fenelon-1.jpg
ORGANIZER;CN="Museum of Early Trades & Crafts":MAILTO:coordinator@metc.org
END:VEVENT
BEGIN:VEVENT
DTSTART;TZID=America/New_York:20221015T100000
DTEND;TZID=America/New_York:20221015T170000
DTSTAMP:20260422T233429
CREATED:20220707T155414Z
LAST-MODIFIED:20220707T155414Z
UID:23498-1665828000-1665853200@metc.org
SUMMARY:METC @Bottle Hill Day
DESCRIPTION:Join us for a collaborative workspace for caregivers and children ages 6 and under.  On August 6\, play with blocks\, puzzles\, and beads\, get creative with coloring\, build with Legos\, and more! $10 per family\, free for members.
URL:https://metc.org/event/metc-bottle-hill-day/
LOCATION:Museum of Early Trades & Crafts\, 9 Main Street\, Madison\, NJ\, 07940\, United States
CATEGORIES:Event,Family
ATTACH;FMTTYPE=image/jpeg:https://metc.org/wp-content/uploads/2022/07/Bottle-Hill-Day-2.jpg
END:VEVENT
BEGIN:VEVENT
DTSTART;TZID=America/New_York:20221027T190000
DTEND;TZID=America/New_York:20221027T200000
DTSTAMP:20260422T233429
CREATED:20220805T195118Z
LAST-MODIFIED:20220805T195118Z
UID:23763-1666897200-1666900800@metc.org
SUMMARY:Zombies\, Witches\, and Vampires: How the dead speak
DESCRIPTION:Join us for a collaborative workspace for caregivers and children ages 6 and under.  On August 6\, play with blocks\, puzzles\, and beads\, get creative with coloring\, build with Legos\, and more! $10 per family\, free for members.
URL:https://metc.org/event/zombies-witches-and-vampires-how-the-dead-speak/
LOCATION:Education Annex\, 23 Main Street\, Madison\, NJ\, 07940\, United States
CATEGORIES:Event
ATTACH;FMTTYPE=image/jpeg:https://metc.org/wp-content/uploads/2022/08/Zombies-Witches-Vampires-and-More-Unusual-customs-and-burial-practices-in-past-societies-2.jpg
ORGANIZER;CN="Museum of Early Trades & Crafts":MAILTO:coordinator@metc.org
END:VEVENT
BEGIN:VEVENT
DTSTART;TZID=America/New_York:20221117T190000
DTEND;TZID=America/New_York:20221117T200000
DTSTAMP:20260422T233429
CREATED:20220720T184309Z
LAST-MODIFIED:20220720T184309Z
UID:23590-1668711600-1668715200@metc.org
SUMMARY:The Nanticoke Lenni-Lenape People and the History of their Struggles
DESCRIPTION:Join us for a collaborative workspace for caregivers and children ages 6 and under.  On August 6\, play with blocks\, puzzles\, and beads\, get creative with coloring\, build with Legos\, and more! $10 per family\, free for members.
URL:https://metc.org/event/the-nanticoke-lenni-lenape-people-and-the-history-of-their-struggles/
LOCATION:Education Annex\, 23 Main Street\, Madison\, NJ\, 07940\, United States
CATEGORIES:Event
ATTACH;FMTTYPE=image/jpeg:https://metc.org/wp-content/uploads/2022/07/IMG_4010-1-e1659020391266.jpg
ORGANIZER;CN="Museum of Early Trades & Crafts":MAILTO:coordinator@metc.org
END:VEVENT
BEGIN:VEVENT
DTSTART;TZID=America/New_York:20221119T140000
DTEND;TZID=America/New_York:20221119T160000
DTSTAMP:20260422T233429
CREATED:20220831T155444Z
LAST-MODIFIED:20220831T155444Z
UID:23890-1668866400-1668873600@metc.org
SUMMARY:Hand Lettering Workshop: Make Something Special - November
DESCRIPTION:Join us for a collaborative workspace for caregivers and children ages 6 and under.  On August 6\, play with blocks\, puzzles\, and beads\, get creative with coloring\, build with Legos\, and more! $10 per family\, free for members.
URL:https://metc.org/event/hand-lettering-workshop-make-something-special-november/
LOCATION:Education Annex\, 23 Main Street\, Madison\, NJ\, 07940\, United States
CATEGORIES:Event,Family
ATTACH;FMTTYPE=image/jpeg:https://metc.org/wp-content/uploads/2022/08/Hand-Lettering-Workshop-Make-Something-Special.jpg
ORGANIZER;CN="Museum of Early Trades & Crafts":MAILTO:coordinator@metc.org
END:VEVENT
BEGIN:VEVENT
DTSTART;TZID=America/New_York:20221121T123000
DTEND;TZID=America/New_York:20221121T163000
DTSTAMP:20260422T233429
CREATED:20220816T173129Z
LAST-MODIFIED:20220816T173129Z
UID:23844-1669033800-1669048200@metc.org
SUMMARY:Drop in Craft - Dreamcatchers
DESCRIPTION:Join us for a collaborative workspace for caregivers and children ages 6 and under.  On August 6\, play with blocks\, puzzles\, and beads\, get creative with coloring\, build with Legos\, and more! $10 per family\, free for members.
URL:https://metc.org/event/drop-in-craft-dreamcatchers/
LOCATION:Education Annex\, 23 Main Street\, Madison\, NJ\, 07940\, United States
CATEGORIES:Event,Family
ATTACH;FMTTYPE=image/png:https://metc.org/wp-content/uploads/2022/08/Drop-in-Craft-Dreamcatchers.png
ORGANIZER;CN="Museum of Early Trades & Crafts":MAILTO:coordinator@metc.org
END:VEVENT
BEGIN:VEVENT
DTSTART;TZID=America/New_York:20221210T110000
DTEND;TZID=America/New_York:20221210T130000
DTSTAMP:20260422T233429
CREATED:20221014T181503Z
LAST-MODIFIED:20221014T181503Z
UID:23987-1670670000-1670677200@metc.org
SUMMARY:Holiday Paper Crafts with Book Arts Roundtable
DESCRIPTION:Join us for a collaborative workspace for caregivers and children ages 6 and under.  On August 6\, play with blocks\, puzzles\, and beads\, get creative with coloring\, build with Legos\, and more! $10 per family\, free for members.
URL:https://metc.org/event/holiday-paper-crafts-with-book-arts-roundtable/
LOCATION:Education Annex\, 23 Main Street\, Madison\, NJ\, 07940\, United States
CATEGORIES:BAR,Event,Family
ATTACH;FMTTYPE=image/jpeg:https://metc.org/wp-content/uploads/2022/10/BAR-Holiday-Ornaments.jpg
ORGANIZER;CN="Museum of Early Trades & Crafts":MAILTO:coordinator@metc.org
END:VEVENT
BEGIN:VEVENT
DTSTART;TZID=America/New_York:20230116T110000
DTEND;TZID=America/New_York:20230116T150000
DTSTAMP:20260422T233429
CREATED:20221125T192433Z
LAST-MODIFIED:20221125T192433Z
UID:24089-1673866800-1673881200@metc.org
SUMMARY:Drop in Craft - Snow Globes
DESCRIPTION:Join us for a collaborative workspace for caregivers and children ages 6 and under.  On August 6\, play with blocks\, puzzles\, and beads\, get creative with coloring\, build with Legos\, and more! $10 per family\, free for members.
URL:https://metc.org/event/drop-in-craft-snow-globes/
LOCATION:Education Annex\, 23 Main Street\, Madison\, NJ\, 07940\, United States
CATEGORIES:Event,Family
ATTACH;FMTTYPE=image/jpeg:https://metc.org/wp-content/uploads/2022/11/Snow-Globe-Snowman-.jpg
ORGANIZER;CN="Museum of Early Trades & Crafts":MAILTO:coordinator@metc.org
END:VEVENT
BEGIN:VEVENT
DTSTART;TZID=America/New_York:20230125T190000
DTEND;TZID=America/New_York:20230125T210000
DTSTAMP:20260422T233429
CREATED:20221229T193226Z
LAST-MODIFIED:20221229T193226Z
UID:24196-1674673200-1674680400@metc.org
SUMMARY:Jersey Trivia Night with Fred Rossi
DESCRIPTION:Join us for a collaborative workspace for caregivers and children ages 6 and under.  On August 6\, play with blocks\, puzzles\, and beads\, get creative with coloring\, build with Legos\, and more! $10 per family\, free for members.
URL:https://metc.org/event/jersey-trivia-night-with-fred-rossi/
LOCATION:Education Annex\, 23 Main Street\, Madison\, NJ\, 07940\, United States
CATEGORIES:Event
ATTACH;FMTTYPE=image/jpeg:https://metc.org/wp-content/uploads/2022/12/Trivia-Night-1.jpg
ORGANIZER;CN="Museum of Early Trades & Crafts":MAILTO:coordinator@metc.org
END:VEVENT
BEGIN:VEVENT
DTSTART;TZID=America/New_York:20230211T110000
DTEND;TZID=America/New_York:20230211T123000
DTSTAMP:20260422T233429
CREATED:20221125T200632Z
LAST-MODIFIED:20221125T200632Z
UID:24094-1676113200-1676118600@metc.org
SUMMARY:BAR Workshop: Handmade Valentines
DESCRIPTION:Join us for a collaborative workspace for caregivers and children ages 6 and under.  On August 6\, play with blocks\, puzzles\, and beads\, get creative with coloring\, build with Legos\, and more! $10 per family\, free for members.
URL:https://metc.org/event/bar-workshop-handmade-valentines/
LOCATION:Education Annex\, 23 Main Street\, Madison\, NJ\, 07940\, United States
CATEGORIES:BAR,Event,Family
ATTACH;FMTTYPE=image/jpeg:https://metc.org/wp-content/uploads/2022/11/Saturday-February-11-2023-11am-1230-pm.jpg
ORGANIZER;CN="Museum of Early Trades & Crafts":MAILTO:coordinator@metc.org
END:VEVENT
BEGIN:VEVENT
DTSTART;TZID=America/New_York:20230220T110000
DTEND;TZID=America/New_York:20230220T150000
DTSTAMP:20260422T233429
CREATED:20221215T010039Z
LAST-MODIFIED:20221215T010039Z
UID:24114-1676890800-1676905200@metc.org
SUMMARY:Stained Glass Hearts Craft Day
DESCRIPTION:Join us for a collaborative workspace for caregivers and children ages 6 and under.  On August 6\, play with blocks\, puzzles\, and beads\, get creative with coloring\, build with Legos\, and more! $10 per family\, free for members.
URL:https://metc.org/event/drop-in-craft-stained-glass-hearts/
LOCATION:Education Annex\, 23 Main Street\, Madison\, NJ\, 07940\, United States
ATTACH;FMTTYPE=image/png:https://metc.org/wp-content/uploads/2022/12/Drop-In-Craft-Stained-Glass-Hearts.png
ORGANIZER;CN="Museum of Early Trades & Crafts":MAILTO:coordinator@metc.org
END:VEVENT
BEGIN:VEVENT
DTSTART;TZID=America/New_York:20230225T110000
DTEND;TZID=America/New_York:20230225T123000
DTSTAMP:20260422T233429
CREATED:20221125T202732Z
LAST-MODIFIED:20221125T202732Z
UID:24099-1677322800-1677328200@metc.org
SUMMARY:BAR Workshop - Make-a-Book
DESCRIPTION:Join us for a collaborative workspace for caregivers and children ages 6 and under.  On August 6\, play with blocks\, puzzles\, and beads\, get creative with coloring\, build with Legos\, and more! $10 per family\, free for members.
URL:https://metc.org/event/bar-workshop-make-a-book/
LOCATION:Education Annex\, 23 Main Street\, Madison\, NJ\, 07940\, United States
CATEGORIES:BAR,Event,Family
ATTACH;FMTTYPE=image/jpeg:https://metc.org/wp-content/uploads/2022/11/Fabric-books-1.jpg
ORGANIZER;CN="Museum of Early Trades & Crafts":MAILTO:coordinator@metc.org
END:VEVENT
END:VCALENDAR