BEGIN:VCALENDAR
VERSION:2.0
PRODID:-//Museum of Early Trades &amp; Crafts - ECPv6.15.20//NONSGML v1.0//EN
CALSCALE:GREGORIAN
METHOD:PUBLISH
X-ORIGINAL-URL:https://metc.org
X-WR-CALDESC:Events for Museum of Early Trades &amp; Crafts
REFRESH-INTERVAL;VALUE=DURATION:PT1H
X-Robots-Tag:noindex
X-PUBLISHED-TTL:PT1H
BEGIN:VTIMEZONE
TZID:America/New_York
BEGIN:DAYLIGHT
TZOFFSETFROM:-0500
TZOFFSETTO:-0400
TZNAME:EDT
DTSTART:20250309T070000
END:DAYLIGHT
BEGIN:STANDARD
TZOFFSETFROM:-0400
TZOFFSETTO:-0500
TZNAME:EST
DTSTART:20251102T060000
END:STANDARD
BEGIN:DAYLIGHT
TZOFFSETFROM:-0500
TZOFFSETTO:-0400
TZNAME:EDT
DTSTART:20260308T070000
END:DAYLIGHT
BEGIN:STANDARD
TZOFFSETFROM:-0400
TZOFFSETTO:-0500
TZNAME:EST
DTSTART:20261101T060000
END:STANDARD
BEGIN:DAYLIGHT
TZOFFSETFROM:-0500
TZOFFSETTO:-0400
TZNAME:EDT
DTSTART:20270314T070000
END:DAYLIGHT
BEGIN:STANDARD
TZOFFSETFROM:-0400
TZOFFSETTO:-0500
TZNAME:EST
DTSTART:20271107T060000
END:STANDARD
END:VTIMEZONE
BEGIN:VEVENT
DTSTART;TZID=America/New_York:20260805T140000
DTEND;TZID=America/New_York:20260805T160000
DTSTAMP:20260422T233739
CREATED:20260421T151252Z
LAST-MODIFIED:20260421T151814Z
UID:29486-1785938400-1785945600@metc.org
SUMMARY:August 5 Workspace Wednesday (7-12)
DESCRIPTION:A drop-off event for children ages 7-12! \nKeep the summer doldrums (and summer slide away) with our Workspace Wednesday drop off program for children ages 7-12. Join us on Wednesday\, August 5 in the METC Education Annex in our collaborative work space to build with Legos and blocks\, paint\, experiment with coding robots\, use our 3D Printer\, and more! (30 participant limit) \n$20/child; $10 for members. 
URL:https://metc.org/event/august-5-workspace-wednesday-7-12-duplicate-29478/
LOCATION:Education Annex\, 23 Main Street\, Madison\, NJ\, 07940\, United States
CATEGORIES:Event,Family
ATTACH;FMTTYPE=image/png:https://metc.org/wp-content/uploads/2026/04/drop-off-aug6-2.png
END:VEVENT
BEGIN:VEVENT
DTSTART;TZID=America/New_York:20260812T100000
DTEND;TZID=America/New_York:20260812T120000
DTSTAMP:20260422T233739
CREATED:20260421T151252Z
LAST-MODIFIED:20260421T151851Z
UID:29490-1786528800-1786536000@metc.org
SUMMARY:August 12 Workspace Wednesday (6 and under)
DESCRIPTION:Join us for a collaborative workspace for caregivers and children ages 6 and under.  \nOn August 12\, play with blocks\, puzzles\, and beads\, get creative with coloring\, build with Legos\, and more! \n$10 per family\, free for members
URL:https://metc.org/event/august-12-workspace-wednesday-6-and-under/
LOCATION:Education Annex\, 23 Main Street\, Madison\, NJ\, 07940\, United States
CATEGORIES:Event,Family
ATTACH;FMTTYPE=image/png:https://metc.org/wp-content/uploads/2026/04/August-13-2.png
END:VEVENT
BEGIN:VEVENT
DTSTART;TZID=America/New_York:20260812T140000
DTEND;TZID=America/New_York:20260812T160000
DTSTAMP:20260422T233739
CREATED:20260421T151252Z
LAST-MODIFIED:20260421T151916Z
UID:29494-1786543200-1786550400@metc.org
SUMMARY:August 12 Workspace Wednesday (7-12)
DESCRIPTION:A drop-off event for children ages 7-12! \nKeep the summer doldrums (and summer slide away) with our Workspace Wednesday drop off program for children ages 7-12. Join us on Wednesday\, August 12 in the METC Education Annex in our collaborative work space to build with Legos and blocks\, paint\, experiment with coding robots\, use our 3D Printer\, and more! (30 participant limit) \n$20/child; $10 for members. 
URL:https://metc.org/event/august-12-workspace-wednesday-7-12/
LOCATION:Education Annex\, 23 Main Street\, Madison\, NJ\, 07940\, United States
CATEGORIES:Event,Family
ATTACH;FMTTYPE=image/png:https://metc.org/wp-content/uploads/2026/04/drop-off-aug13-2.png
END:VEVENT
BEGIN:VEVENT
DTSTART;TZID=America/New_York:20260819T100000
DTEND;TZID=America/New_York:20260819T120000
DTSTAMP:20260422T233739
CREATED:20260421T151252Z
LAST-MODIFIED:20260421T151950Z
UID:29498-1787133600-1787140800@metc.org
SUMMARY:August 19 Workspace Wednesday (6 and under)
DESCRIPTION:Join us for a collaborative workspace for caregivers and children ages 6 and under.  \nOn August 19\, play with blocks\, puzzles\, and beads\, get creative with coloring\, build with Legos\, and more! \n$10 per family\, free for members
URL:https://metc.org/event/august-19-workspace-wednesday-6-and-under/
LOCATION:Education Annex\, 23 Main Street\, Madison\, NJ\, 07940\, United States
CATEGORIES:Event,Family
ATTACH;FMTTYPE=image/png:https://metc.org/wp-content/uploads/2026/04/August-20-2.png
END:VEVENT
BEGIN:VEVENT
DTSTART;TZID=America/New_York:20260819T140000
DTEND;TZID=America/New_York:20260819T160000
DTSTAMP:20260422T233739
CREATED:20260421T151251Z
LAST-MODIFIED:20260421T152012Z
UID:29502-1787148000-1787155200@metc.org
SUMMARY:August 19 Workspace Wednesday (7-12)
DESCRIPTION:A drop-off event for children ages 7-12! \nKeep the summer doldrums (and summer slide away) with our Workspace Wednesday drop off program for children ages 7-12. Join us on Wednesday\, August 19 in the METC Education Annex in our collaborative work space to build with Legos and blocks\, paint\, experiment with coding robots\, use our 3D Printer\, and more! (30 participant limit) \n$20/child; $10 for members. 
URL:https://metc.org/event/august-19-workspace-wednesday-7-12/
LOCATION:Education Annex\, 23 Main Street\, Madison\, NJ\, 07940\, United States
CATEGORIES:Event,Family
ATTACH;FMTTYPE=image/png:https://metc.org/wp-content/uploads/2026/04/drop-off-aug20-2.png
END:VEVENT
BEGIN:VEVENT
DTSTART;TZID=America/New_York:20261015T183000
DTEND;TZID=America/New_York:20261015T213000
DTSTAMP:20260422T233739
CREATED:20260313T173001Z
LAST-MODIFIED:20260313T173001Z
UID:29346-1792089000-1792099800@metc.org
SUMMARY:Annual Gala
DESCRIPTION:Save the date to our annual gala
URL:https://metc.org/event/annual-gala/
CATEGORIES:Event
ATTACH;FMTTYPE=image/png:https://metc.org/wp-content/uploads/2026/03/save-the-date-2026.png
END:VEVENT
END:VCALENDAR