BEGIN:VCALENDAR
VERSION:2.0
PRODID:-//Museum of Early Trades &amp; Crafts - ECPv6.15.20//NONSGML v1.0//EN
CALSCALE:GREGORIAN
METHOD:PUBLISH
X-WR-CALNAME:Museum of Early Trades &amp; Crafts
X-ORIGINAL-URL:https://metc.org
X-WR-CALDESC:Events for Museum of Early Trades &amp; Crafts
REFRESH-INTERVAL;VALUE=DURATION:PT1H
X-Robots-Tag:noindex
X-PUBLISHED-TTL:PT1H
BEGIN:VTIMEZONE
TZID:America/New_York
BEGIN:DAYLIGHT
TZOFFSETFROM:-0500
TZOFFSETTO:-0400
TZNAME:EDT
DTSTART:20250309T070000
END:DAYLIGHT
BEGIN:STANDARD
TZOFFSETFROM:-0400
TZOFFSETTO:-0500
TZNAME:EST
DTSTART:20251102T060000
END:STANDARD
BEGIN:DAYLIGHT
TZOFFSETFROM:-0500
TZOFFSETTO:-0400
TZNAME:EDT
DTSTART:20260308T070000
END:DAYLIGHT
BEGIN:STANDARD
TZOFFSETFROM:-0400
TZOFFSETTO:-0500
TZNAME:EST
DTSTART:20261101T060000
END:STANDARD
BEGIN:DAYLIGHT
TZOFFSETFROM:-0500
TZOFFSETTO:-0400
TZNAME:EDT
DTSTART:20270314T070000
END:DAYLIGHT
BEGIN:STANDARD
TZOFFSETFROM:-0400
TZOFFSETTO:-0500
TZNAME:EST
DTSTART:20271107T060000
END:STANDARD
END:VTIMEZONE
BEGIN:VEVENT
DTSTART;TZID=America/New_York:20260428T183000
DTEND;TZID=America/New_York:20260428T200000
DTSTAMP:20260422T185055
CREATED:20260310T170029Z
LAST-MODIFIED:20260415T190159Z
UID:29338-1777401000-1777406400@metc.org
SUMMARY:​After Hours with the Daughters of the American Revolution
DESCRIPTION:Join us for a collaborative workspace for caregivers and children ages 6 and under.  On July 1\, play with blocks\, puzzles\, and beads\, get creative with coloring\, build with Legos\, and more! $10 per family\, free for members.
URL:https://metc.org/event/after-hours-dar/
LOCATION:Museum of Early Trades & Crafts\, 9 Main Street\, Madison\, NJ\, 07940\, United States
CATEGORIES:Event
ATTACH;FMTTYPE=image/png:https://metc.org/wp-content/uploads/2026/03/after-hours-american-experience.png
ORGANIZER;CN="Museum of Early Trades & Crafts":MAILTO:coordinator@metc.org
END:VEVENT
BEGIN:VEVENT
DTSTART;TZID=America/New_York:20260502T110000
DTEND;TZID=America/New_York:20260502T150000
DTSTAMP:20260422T185055
CREATED:20251013T193042Z
LAST-MODIFIED:20260327T142452Z
UID:28814-1777719600-1777734000@metc.org
SUMMARY:Makerspace May
DESCRIPTION:Join us for a collaborative workspace for caregivers and children ages 6 and under.  On July 1\, play with blocks\, puzzles\, and beads\, get creative with coloring\, build with Legos\, and more! $10 per family\, free for members.
URL:https://metc.org/event/makerspace-may2/
LOCATION:Education Annex\, 23 Main Street\, Madison\, NJ\, 07940\, United States
CATEGORIES:Event,Family
ATTACH;FMTTYPE=image/png:https://metc.org/wp-content/uploads/2025/10/makerspace-super.png
ORGANIZER;CN="Museum of Early Trades & Crafts":MAILTO:coordinator@metc.org
END:VEVENT
BEGIN:VEVENT
DTSTART;TZID=America/New_York:20260606T110000
DTEND;TZID=America/New_York:20260606T150000
DTSTAMP:20260422T185055
CREATED:20251013T193327Z
LAST-MODIFIED:20251013T193416Z
UID:28818-1780743600-1780758000@metc.org
SUMMARY:Makerspace June
DESCRIPTION:Join us for a collaborative workspace for caregivers and children ages 6 and under.  On July 1\, play with blocks\, puzzles\, and beads\, get creative with coloring\, build with Legos\, and more! $10 per family\, free for members.
URL:https://metc.org/event/makerspace-june6/
LOCATION:Education Annex\, 23 Main Street\, Madison\, NJ\, 07940\, United States
CATEGORIES:Event,Family
ATTACH;FMTTYPE=image/png:https://metc.org/wp-content/uploads/2025/10/June.png
ORGANIZER;CN="Museum of Early Trades & Crafts":MAILTO:coordinator@metc.org
END:VEVENT
BEGIN:VEVENT
DTSTART;TZID=America/New_York:20260624T100000
DTEND;TZID=America/New_York:20260624T120000
DTSTAMP:20260422T185055
CREATED:20260416T175734Z
LAST-MODIFIED:20260421T150409Z
UID:29420-1782295200-1782302400@metc.org
SUMMARY:June 24 Workspace Wednesday (6 and under)
DESCRIPTION:Join us for a collaborative workspace for caregivers and children ages 6 and under.  On July 1\, play with blocks\, puzzles\, and beads\, get creative with coloring\, build with Legos\, and more! $10 per family\, free for members.
URL:https://metc.org/event/june24-workspace-wednesday-6-and-under/
LOCATION:Education Annex\, 23 Main Street\, Madison\, NJ\, 07940\, United States
CATEGORIES:Event,Family
ATTACH;FMTTYPE=image/png:https://metc.org/wp-content/uploads/2026/04/june-25-2-1.png
END:VEVENT
BEGIN:VEVENT
DTSTART;TZID=America/New_York:20260624T140000
DTEND;TZID=America/New_York:20260624T160000
DTSTAMP:20260422T185055
CREATED:20260416T174957Z
LAST-MODIFIED:20260421T151113Z
UID:29413-1782309600-1782316800@metc.org
SUMMARY:June 24 Workspace Wednesday (7-12)
DESCRIPTION:Join us for a collaborative workspace for caregivers and children ages 6 and under.  On July 1\, play with blocks\, puzzles\, and beads\, get creative with coloring\, build with Legos\, and more! $10 per family\, free for members.
URL:https://metc.org/event/june-24-workspace-wednesday-7-12/
LOCATION:Education Annex\, 23 Main Street\, Madison\, NJ\, 07940\, United States
CATEGORIES:Event
ATTACH;FMTTYPE=image/png:https://metc.org/wp-content/uploads/2026/04/drop-off-june25-2.png
END:VEVENT
BEGIN:VEVENT
DTSTART;TZID=America/New_York:20260701T100000
DTEND;TZID=America/New_York:20260701T120000
DTSTAMP:20260422T185055
CREATED:20260421T151255Z
LAST-MODIFIED:20260421T151319Z
UID:29445-1782900000-1782907200@metc.org
SUMMARY:July 1 Workspace Wednesday (6 and under)
DESCRIPTION:Join us for a collaborative workspace for caregivers and children ages 6 and under.  On July 1\, play with blocks\, puzzles\, and beads\, get creative with coloring\, build with Legos\, and more! $10 per family\, free for members.
URL:https://metc.org/event/july-1-workspace-wednesday-6-and-under/
LOCATION:Education Annex\, 23 Main Street\, Madison\, NJ\, 07940\, United States
CATEGORIES:Event,Family
ATTACH;FMTTYPE=image/png:https://metc.org/wp-content/uploads/2026/04/july-2-2.png
END:VEVENT
BEGIN:VEVENT
DTSTART;TZID=America/New_York:20260701T140000
DTEND;TZID=America/New_York:20260701T160000
DTSTAMP:20260422T185055
CREATED:20260421T151254Z
LAST-MODIFIED:20260421T151409Z
UID:29434-1782914400-1782921600@metc.org
SUMMARY:July 1 Workspace Wednesday (7-12)
DESCRIPTION:Join us for a collaborative workspace for caregivers and children ages 6 and under.  On July 1\, play with blocks\, puzzles\, and beads\, get creative with coloring\, build with Legos\, and more! $10 per family\, free for members.
URL:https://metc.org/event/july-1-workspace-wednesday-7-12/
LOCATION:Education Annex\, 23 Main Street\, Madison\, NJ\, 07940\, United States
CATEGORIES:Event,Family
ATTACH;FMTTYPE=image/png:https://metc.org/wp-content/uploads/2026/04/drop-off-july2-2.png
END:VEVENT
BEGIN:VEVENT
DTSTART;TZID=America/New_York:20260708T100000
DTEND;TZID=America/New_York:20260708T100000
DTSTAMP:20260422T185056
CREATED:20260421T151254Z
LAST-MODIFIED:20260421T151343Z
UID:29449-1783504800-1783504800@metc.org
SUMMARY:July 8 Workspace Wednesday (6 and under)
DESCRIPTION:Join us for a collaborative workspace for caregivers and children ages 6 and under.  On July 1\, play with blocks\, puzzles\, and beads\, get creative with coloring\, build with Legos\, and more! $10 per family\, free for members.
URL:https://metc.org/event/july-8-workspace-wednesday-6-and-under/
LOCATION:Education Annex\, 23 Main Street\, Madison\, NJ\, 07940\, United States
CATEGORIES:Event,Family
ATTACH;FMTTYPE=image/png:https://metc.org/wp-content/uploads/2026/04/july-9-2.png
END:VEVENT
BEGIN:VEVENT
DTSTART;TZID=America/New_York:20260708T140000
DTEND;TZID=America/New_York:20260708T160000
DTSTAMP:20260422T185056
CREATED:20260421T151254Z
LAST-MODIFIED:20260421T151437Z
UID:29453-1783519200-1783526400@metc.org
SUMMARY:July 8 Workspace Wednesday (7-12)
DESCRIPTION:Join us for a collaborative workspace for caregivers and children ages 6 and under.  On July 1\, play with blocks\, puzzles\, and beads\, get creative with coloring\, build with Legos\, and more! $10 per family\, free for members.
URL:https://metc.org/event/july-8-workspace-wednesday-7-12/
LOCATION:Education Annex\, 23 Main Street\, Madison\, NJ\, 07940\, United States
CATEGORIES:Event,Family
ATTACH;FMTTYPE=image/png:https://metc.org/wp-content/uploads/2026/04/drop-off-july9-2.png
END:VEVENT
BEGIN:VEVENT
DTSTART;TZID=America/New_York:20260715T100000
DTEND;TZID=America/New_York:20260715T100000
DTSTAMP:20260422T185056
CREATED:20260421T151254Z
LAST-MODIFIED:20260421T151458Z
UID:29458-1784109600-1784109600@metc.org
SUMMARY:July 15 Workspace Wednesday (6 and under)
DESCRIPTION:Join us for a collaborative workspace for caregivers and children ages 6 and under.  On July 1\, play with blocks\, puzzles\, and beads\, get creative with coloring\, build with Legos\, and more! $10 per family\, free for members.
URL:https://metc.org/event/july-15-workspace-wednesday-6-and-under/
LOCATION:Education Annex\, 23 Main Street\, Madison\, NJ\, 07940\, United States
CATEGORIES:Event,Family
ATTACH;FMTTYPE=image/png:https://metc.org/wp-content/uploads/2026/04/july-16-2.png
END:VEVENT
BEGIN:VEVENT
DTSTART;TZID=America/New_York:20260715T140000
DTEND;TZID=America/New_York:20260715T160000
DTSTAMP:20260422T185056
CREATED:20260421T151253Z
LAST-MODIFIED:20260421T151551Z
UID:29462-1784124000-1784131200@metc.org
SUMMARY:July 15 Workspace Wednesday (7-12)
DESCRIPTION:Join us for a collaborative workspace for caregivers and children ages 6 and under.  On July 1\, play with blocks\, puzzles\, and beads\, get creative with coloring\, build with Legos\, and more! $10 per family\, free for members.
URL:https://metc.org/event/july-15-workspace-wednesday-7-12/
LOCATION:Education Annex\, 23 Main Street\, Madison\, NJ\, 07940\, United States
CATEGORIES:Event,Family
ATTACH;FMTTYPE=image/png:https://metc.org/wp-content/uploads/2026/04/drop-off-july16-2.png
END:VEVENT
BEGIN:VEVENT
DTSTART;TZID=America/New_York:20260718T130000
DTEND;TZID=America/New_York:20260718T160000
DTSTAMP:20260422T185056
CREATED:20260421T145440Z
LAST-MODIFIED:20260421T145440Z
UID:29513-1784379600-1784390400@metc.org
SUMMARY:Family Fun Day
DESCRIPTION:Join us for a collaborative workspace for caregivers and children ages 6 and under.  On July 1\, play with blocks\, puzzles\, and beads\, get creative with coloring\, build with Legos\, and more! $10 per family\, free for members.
URL:https://metc.org/event/familyfunday/
LOCATION:Museum of Early Trades & Crafts\, 9 Main Street\, Madison\, NJ\, 07940\, United States
CATEGORIES:Event
ATTACH;FMTTYPE=image/png:https://metc.org/wp-content/uploads/2026/04/Save-the-date-2026.png
END:VEVENT
BEGIN:VEVENT
DTSTART;TZID=America/New_York:20260722T100000
DTEND;TZID=America/New_York:20260722T100000
DTSTAMP:20260422T185056
CREATED:20260421T151253Z
LAST-MODIFIED:20260421T151620Z
UID:29466-1784714400-1784714400@metc.org
SUMMARY:July 22 Workspace Wednesday (6 and under)
DESCRIPTION:Join us for a collaborative workspace for caregivers and children ages 6 and under.  On July 1\, play with blocks\, puzzles\, and beads\, get creative with coloring\, build with Legos\, and more! $10 per family\, free for members.
URL:https://metc.org/event/july-22-workspace-wednesday-6-and-under/
LOCATION:Education Annex\, 23 Main Street\, Madison\, NJ\, 07940\, United States
CATEGORIES:Event,Family
ATTACH;FMTTYPE=image/png:https://metc.org/wp-content/uploads/2026/04/july-23-2.png
END:VEVENT
BEGIN:VEVENT
DTSTART;TZID=America/New_York:20260722T140000
DTEND;TZID=America/New_York:20260722T160000
DTSTAMP:20260422T185056
CREATED:20260421T151253Z
LAST-MODIFIED:20260421T151641Z
UID:29470-1784728800-1784736000@metc.org
SUMMARY:July 22 Workspace Wednesday (7-12)
DESCRIPTION:Join us for a collaborative workspace for caregivers and children ages 6 and under.  On July 1\, play with blocks\, puzzles\, and beads\, get creative with coloring\, build with Legos\, and more! $10 per family\, free for members.
URL:https://metc.org/event/july-22-workspace-wednesday-7-12/
LOCATION:Education Annex\, 23 Main Street\, Madison\, NJ\, 07940\, United States
CATEGORIES:Event,Family
ATTACH;FMTTYPE=image/png:https://metc.org/wp-content/uploads/2026/04/drop-off-july23-2.png
END:VEVENT
BEGIN:VEVENT
DTSTART;TZID=America/New_York:20260725T130000
DTEND;TZID=America/New_York:20260725T160000
DTSTAMP:20260422T185056
CREATED:20260416T173708Z
LAST-MODIFIED:20260421T145500Z
UID:29427-1784984400-1784995200@metc.org
SUMMARY:Walking Tour
DESCRIPTION:Join us for a collaborative workspace for caregivers and children ages 6 and under.  On July 1\, play with blocks\, puzzles\, and beads\, get creative with coloring\, build with Legos\, and more! $10 per family\, free for members.
URL:https://metc.org/event/walkingtour/
LOCATION:Museum of Early Trades & Crafts\, 9 Main Street\, Madison\, NJ\, 07940\, United States
CATEGORIES:Event
ATTACH;FMTTYPE=image/png:https://metc.org/wp-content/uploads/2026/04/save-the-date-walking-tour.png
END:VEVENT
BEGIN:VEVENT
DTSTART;TZID=America/New_York:20260729T100000
DTEND;TZID=America/New_York:20260729T100000
DTSTAMP:20260422T185056
CREATED:20260421T151253Z
LAST-MODIFIED:20260421T151707Z
UID:29474-1785319200-1785319200@metc.org
SUMMARY:July 29 Workspace Wednesday (6 and under)
DESCRIPTION:Join us for a collaborative workspace for caregivers and children ages 6 and under.  On July 1\, play with blocks\, puzzles\, and beads\, get creative with coloring\, build with Legos\, and more! $10 per family\, free for members.
URL:https://metc.org/event/july-29-workspace-wednesday-6-and-under/
LOCATION:Education Annex\, 23 Main Street\, Madison\, NJ\, 07940\, United States
CATEGORIES:Event,Family
ATTACH;FMTTYPE=image/png:https://metc.org/wp-content/uploads/2026/04/july-30-2.png
END:VEVENT
BEGIN:VEVENT
DTSTART;TZID=America/New_York:20260729T140000
DTEND;TZID=America/New_York:20260729T160000
DTSTAMP:20260422T185056
CREATED:20260421T151253Z
LAST-MODIFIED:20260421T151728Z
UID:29478-1785333600-1785340800@metc.org
SUMMARY:July 29 Workspace Wednesday (7-12)
DESCRIPTION:Join us for a collaborative workspace for caregivers and children ages 6 and under.  On July 1\, play with blocks\, puzzles\, and beads\, get creative with coloring\, build with Legos\, and more! $10 per family\, free for members.
URL:https://metc.org/event/july-29-workspace-wednesday-7-12/
LOCATION:Education Annex\, 23 Main Street\, Madison\, NJ\, 07940\, United States
CATEGORIES:Event,Family
ATTACH;FMTTYPE=image/png:https://metc.org/wp-content/uploads/2026/04/drop-off-july30-2.png
END:VEVENT
BEGIN:VEVENT
DTSTART;TZID=America/New_York:20260805T100000
DTEND;TZID=America/New_York:20260805T120000
DTSTAMP:20260422T185056
CREATED:20260421T151252Z
LAST-MODIFIED:20260421T151752Z
UID:29482-1785924000-1785931200@metc.org
SUMMARY:August 5 Workspace Wednesday (6 and under)
DESCRIPTION:Join us for a collaborative workspace for caregivers and children ages 6 and under.  On July 1\, play with blocks\, puzzles\, and beads\, get creative with coloring\, build with Legos\, and more! $10 per family\, free for members.
URL:https://metc.org/event/august-5-workspace-wednesday-6-and-under/
LOCATION:Education Annex\, 23 Main Street\, Madison\, NJ\, 07940\, United States
CATEGORIES:Event,Family
ATTACH;FMTTYPE=image/png:https://metc.org/wp-content/uploads/2026/04/August-6-2.png
END:VEVENT
BEGIN:VEVENT
DTSTART;TZID=America/New_York:20260805T140000
DTEND;TZID=America/New_York:20260805T160000
DTSTAMP:20260422T185056
CREATED:20260421T151252Z
LAST-MODIFIED:20260421T151814Z
UID:29486-1785938400-1785945600@metc.org
SUMMARY:August 5 Workspace Wednesday (7-12)
DESCRIPTION:Join us for a collaborative workspace for caregivers and children ages 6 and under.  On July 1\, play with blocks\, puzzles\, and beads\, get creative with coloring\, build with Legos\, and more! $10 per family\, free for members.
URL:https://metc.org/event/august-5-workspace-wednesday-7-12-duplicate-29478/
LOCATION:Education Annex\, 23 Main Street\, Madison\, NJ\, 07940\, United States
CATEGORIES:Event,Family
ATTACH;FMTTYPE=image/png:https://metc.org/wp-content/uploads/2026/04/drop-off-aug6-2.png
END:VEVENT
BEGIN:VEVENT
DTSTART;TZID=America/New_York:20260812T100000
DTEND;TZID=America/New_York:20260812T120000
DTSTAMP:20260422T185056
CREATED:20260421T151252Z
LAST-MODIFIED:20260421T151851Z
UID:29490-1786528800-1786536000@metc.org
SUMMARY:August 12 Workspace Wednesday (6 and under)
DESCRIPTION:Join us for a collaborative workspace for caregivers and children ages 6 and under.  On July 1\, play with blocks\, puzzles\, and beads\, get creative with coloring\, build with Legos\, and more! $10 per family\, free for members.
URL:https://metc.org/event/august-12-workspace-wednesday-6-and-under/
LOCATION:Education Annex\, 23 Main Street\, Madison\, NJ\, 07940\, United States
CATEGORIES:Event,Family
ATTACH;FMTTYPE=image/png:https://metc.org/wp-content/uploads/2026/04/August-13-2.png
END:VEVENT
BEGIN:VEVENT
DTSTART;TZID=America/New_York:20260812T140000
DTEND;TZID=America/New_York:20260812T160000
DTSTAMP:20260422T185056
CREATED:20260421T151252Z
LAST-MODIFIED:20260421T151916Z
UID:29494-1786543200-1786550400@metc.org
SUMMARY:August 12 Workspace Wednesday (7-12)
DESCRIPTION:Join us for a collaborative workspace for caregivers and children ages 6 and under.  On July 1\, play with blocks\, puzzles\, and beads\, get creative with coloring\, build with Legos\, and more! $10 per family\, free for members.
URL:https://metc.org/event/august-12-workspace-wednesday-7-12/
LOCATION:Education Annex\, 23 Main Street\, Madison\, NJ\, 07940\, United States
CATEGORIES:Event,Family
ATTACH;FMTTYPE=image/png:https://metc.org/wp-content/uploads/2026/04/drop-off-aug13-2.png
END:VEVENT
BEGIN:VEVENT
DTSTART;TZID=America/New_York:20260819T100000
DTEND;TZID=America/New_York:20260819T120000
DTSTAMP:20260422T185056
CREATED:20260421T151252Z
LAST-MODIFIED:20260421T151950Z
UID:29498-1787133600-1787140800@metc.org
SUMMARY:August 19 Workspace Wednesday (6 and under)
DESCRIPTION:Join us for a collaborative workspace for caregivers and children ages 6 and under.  On July 1\, play with blocks\, puzzles\, and beads\, get creative with coloring\, build with Legos\, and more! $10 per family\, free for members.
URL:https://metc.org/event/august-19-workspace-wednesday-6-and-under/
LOCATION:Education Annex\, 23 Main Street\, Madison\, NJ\, 07940\, United States
CATEGORIES:Event,Family
ATTACH;FMTTYPE=image/png:https://metc.org/wp-content/uploads/2026/04/August-20-2.png
END:VEVENT
BEGIN:VEVENT
DTSTART;TZID=America/New_York:20260819T140000
DTEND;TZID=America/New_York:20260819T160000
DTSTAMP:20260422T185056
CREATED:20260421T151251Z
LAST-MODIFIED:20260421T152012Z
UID:29502-1787148000-1787155200@metc.org
SUMMARY:August 19 Workspace Wednesday (7-12)
DESCRIPTION:Join us for a collaborative workspace for caregivers and children ages 6 and under.  On July 1\, play with blocks\, puzzles\, and beads\, get creative with coloring\, build with Legos\, and more! $10 per family\, free for members.
URL:https://metc.org/event/august-19-workspace-wednesday-7-12/
LOCATION:Education Annex\, 23 Main Street\, Madison\, NJ\, 07940\, United States
CATEGORIES:Event,Family
ATTACH;FMTTYPE=image/png:https://metc.org/wp-content/uploads/2026/04/drop-off-aug20-2.png
END:VEVENT
BEGIN:VEVENT
DTSTART;TZID=America/New_York:20261015T183000
DTEND;TZID=America/New_York:20261015T213000
DTSTAMP:20260422T185056
CREATED:20260313T173001Z
LAST-MODIFIED:20260313T173001Z
UID:29346-1792089000-1792099800@metc.org
SUMMARY:Annual Gala
DESCRIPTION:Join us for a collaborative workspace for caregivers and children ages 6 and under.  On July 1\, play with blocks\, puzzles\, and beads\, get creative with coloring\, build with Legos\, and more! $10 per family\, free for members.
URL:https://metc.org/event/annual-gala/
LOCATION:NJ
CATEGORIES:Event
ATTACH;FMTTYPE=image/png:https://metc.org/wp-content/uploads/2026/03/save-the-date-2026.png
END:VEVENT
END:VCALENDAR