BEGIN:VCALENDAR
VERSION:2.0
PRODID:-//Museum of Early Trades &amp; Crafts - ECPv6.15.20//NONSGML v1.0//EN
CALSCALE:GREGORIAN
METHOD:PUBLISH
X-WR-CALNAME:Museum of Early Trades &amp; Crafts
X-ORIGINAL-URL:https://metc.org
X-WR-CALDESC:Events for Museum of Early Trades &amp; Crafts
REFRESH-INTERVAL;VALUE=DURATION:PT1H
X-Robots-Tag:noindex
X-PUBLISHED-TTL:PT1H
BEGIN:VTIMEZONE
TZID:America/New_York
BEGIN:DAYLIGHT
TZOFFSETFROM:-0500
TZOFFSETTO:-0400
TZNAME:EDT
DTSTART:20200308T070000
END:DAYLIGHT
BEGIN:STANDARD
TZOFFSETFROM:-0400
TZOFFSETTO:-0500
TZNAME:EST
DTSTART:20201101T060000
END:STANDARD
BEGIN:DAYLIGHT
TZOFFSETFROM:-0500
TZOFFSETTO:-0400
TZNAME:EDT
DTSTART:20210314T070000
END:DAYLIGHT
BEGIN:STANDARD
TZOFFSETFROM:-0400
TZOFFSETTO:-0500
TZNAME:EST
DTSTART:20211107T060000
END:STANDARD
BEGIN:DAYLIGHT
TZOFFSETFROM:-0500
TZOFFSETTO:-0400
TZNAME:EDT
DTSTART:20220313T070000
END:DAYLIGHT
BEGIN:STANDARD
TZOFFSETFROM:-0400
TZOFFSETTO:-0500
TZNAME:EST
DTSTART:20221106T060000
END:STANDARD
END:VTIMEZONE
BEGIN:VEVENT
DTSTART;TZID=America/New_York:20210916T183000
DTEND;TZID=America/New_York:20210916T210000
DTSTAMP:20260422T225748
CREATED:20220711T184652Z
LAST-MODIFIED:20220711T184652Z
UID:23516-1631817000-1631826000@metc.org
SUMMARY:Annual Benefit: A Night at the Museum
DESCRIPTION:Join us for a collaborative workspace for caregivers and children ages 6 and under.  On July 1\, play with blocks\, puzzles\, and beads\, get creative with coloring\, build with Legos\, and more! $10 per family\, free for members.
URL:https://metc.org/event/annual-benefit-a-night-at-the-museum/
LOCATION:Museum of Early Trades & Crafts\, 9 Main Street\, Madison\, NJ\, 07940\, United States
CATEGORIES:Event
ATTACH;FMTTYPE=image/png:https://metc.org/wp-content/uploads/2022/06/Invitation.png
ORGANIZER;CN="Museum of Early Trades & Crafts":MAILTO:coordinator@metc.org
END:VEVENT
BEGIN:VEVENT
DTSTART;TZID=America/New_York:20210903T180000
DTEND;TZID=America/New_York:20210903T200000
DTSTAMP:20260422T225748
CREATED:20210823T150147Z
LAST-MODIFIED:20210823T150147Z
UID:21969-1630692000-1630699200@metc.org
SUMMARY:Downtown Concert Series: Broadway & Beyond
DESCRIPTION:Join us for a collaborative workspace for caregivers and children ages 6 and under.  On July 1\, play with blocks\, puzzles\, and beads\, get creative with coloring\, build with Legos\, and more! $10 per family\, free for members.
URL:https://metc.org/event/downtown-concert-series-broadway-beyond/
LOCATION:Museum of Early Trades & Crafts\, 9 Main Street\, Madison\, NJ\, 07940\, United States
CATEGORIES:Event
ATTACH;FMTTYPE=image/jpeg:https://metc.org/wp-content/uploads/2021/03/Concert-Series-Thumbnail.jpg
ORGANIZER;CN="Museum of Early Trades & Crafts":MAILTO:coordinator@metc.org
END:VEVENT
BEGIN:VEVENT
DTSTART;TZID=America/New_York:20210821T110000
DTEND;TZID=America/New_York:20210821T123000
DTSTAMP:20260422T225748
CREATED:20210604T193232Z
LAST-MODIFIED:20210604T193232Z
UID:21024-1629543600-1629549000@metc.org
SUMMARY:Architectural Walking Tour
DESCRIPTION:Join us for a collaborative workspace for caregivers and children ages 6 and under.  On July 1\, play with blocks\, puzzles\, and beads\, get creative with coloring\, build with Legos\, and more! $10 per family\, free for members.
URL:https://metc.org/event/duplicated-architectural-walking-tour-18891/
LOCATION:Museum of Early Trades & Crafts\, 9 Main Street\, Madison\, NJ\, 07940\, United States
CATEGORIES:Event,Family
ATTACH;FMTTYPE=image/jpeg:https://metc.org/wp-content/uploads/2021/03/Arch-tour-Thumbnail.jpg
ORGANIZER;CN="Museum of Early Trades & Crafts":MAILTO:coordinator@metc.org
END:VEVENT
BEGIN:VEVENT
DTSTART;TZID=America/New_York:20210820T180000
DTEND;TZID=America/New_York:20210820T200000
DTSTAMP:20260422T225748
CREATED:20210324T175121Z
LAST-MODIFIED:20210324T175121Z
UID:19720-1629482400-1629489600@metc.org
SUMMARY:Downtown Concert Series: Mama D and the Vexations
DESCRIPTION:Join us for a collaborative workspace for caregivers and children ages 6 and under.  On July 1\, play with blocks\, puzzles\, and beads\, get creative with coloring\, build with Legos\, and more! $10 per family\, free for members.
URL:https://metc.org/event/downtown-concert-series-mama-d/
LOCATION:Museum of Early Trades & Crafts\, 9 Main Street\, Madison\, NJ\, 07940\, United States
CATEGORIES:Event
ATTACH;FMTTYPE=image/jpeg:https://metc.org/wp-content/uploads/2021/03/Concert-Series-Thumbnail.jpg
ORGANIZER;CN="Museum of Early Trades & Crafts":MAILTO:coordinator@metc.org
END:VEVENT
BEGIN:VEVENT
DTSTART;TZID=America/New_York:20210819T110000
DTEND;TZID=America/New_York:20210819T150000
DTSTAMP:20260422T225748
CREATED:20210729T134755Z
LAST-MODIFIED:20210729T134755Z
UID:21744-1629370800-1629385200@metc.org
SUMMARY:Drop In Craft: Toys and Games
DESCRIPTION:Join us for a collaborative workspace for caregivers and children ages 6 and under.  On July 1\, play with blocks\, puzzles\, and beads\, get creative with coloring\, build with Legos\, and more! $10 per family\, free for members.
URL:https://metc.org/event/drop-in-craft-toys-and-games/
LOCATION:Education Annex\, 23 Main Street\, Madison\, NJ\, 07940\, United States
CATEGORIES:Event,Exhibit
ATTACH;FMTTYPE=image/png:https://metc.org/wp-content/uploads/2021/07/drop-in-toys.png
ORGANIZER;CN="Museum of Early Trades & Crafts":MAILTO:coordinator@metc.org
END:VEVENT
BEGIN:VEVENT
DTSTART;TZID=America/New_York:20210818T110000
DTEND;TZID=America/New_York:20210818T150000
DTSTAMP:20260422T225748
CREATED:20210729T134036Z
LAST-MODIFIED:20210729T134036Z
UID:21740-1629284400-1629298800@metc.org
SUMMARY:Drop In Craft: Back to School
DESCRIPTION:Join us for a collaborative workspace for caregivers and children ages 6 and under.  On July 1\, play with blocks\, puzzles\, and beads\, get creative with coloring\, build with Legos\, and more! $10 per family\, free for members.
URL:https://metc.org/event/drop-in-craft-back-to-school/
LOCATION:Education Annex\, 23 Main Street\, Madison\, NJ\, 07940\, United States
CATEGORIES:Event,Family
ATTACH;FMTTYPE=image/png:https://metc.org/wp-content/uploads/2021/07/drop-in-back-to-school.png
ORGANIZER;CN="Museum of Early Trades & Crafts":MAILTO:coordinator@metc.org
END:VEVENT
BEGIN:VEVENT
DTSTART;TZID=America/New_York:20210806T180000
DTEND;TZID=America/New_York:20210806T200000
DTSTAMP:20260422T225748
CREATED:20210324T143812Z
LAST-MODIFIED:20210324T143812Z
UID:19718-1628272800-1628280000@metc.org
SUMMARY:Downtown Concert Series: Matt Haughey
DESCRIPTION:Join us for a collaborative workspace for caregivers and children ages 6 and under.  On July 1\, play with blocks\, puzzles\, and beads\, get creative with coloring\, build with Legos\, and more! $10 per family\, free for members.
URL:https://metc.org/event/downtown-concert-series-matt-haughey/
LOCATION:Museum of Early Trades & Crafts\, 9 Main Street\, Madison\, NJ\, 07940\, United States
CATEGORIES:Event
ATTACH;FMTTYPE=image/jpeg:https://metc.org/wp-content/uploads/2021/03/Concert-Series-Thumbnail.jpg
ORGANIZER;CN="Museum of Early Trades & Crafts":MAILTO:coordinator@metc.org
END:VEVENT
BEGIN:VEVENT
DTSTART;TZID=America/New_York:20210805T110000
DTEND;TZID=America/New_York:20210805T150000
DTSTAMP:20260422T225748
CREATED:20210719T155852Z
LAST-MODIFIED:20210719T155852Z
UID:21690-1628161200-1628175600@metc.org
SUMMARY:Drop-in Craft: Alice in Wonderland
DESCRIPTION:Join us for a collaborative workspace for caregivers and children ages 6 and under.  On July 1\, play with blocks\, puzzles\, and beads\, get creative with coloring\, build with Legos\, and more! $10 per family\, free for members.
URL:https://metc.org/event/drop-in-craft-alice-in-wonderland/
LOCATION:Education Annex\, 23 Main Street\, Madison\, NJ\, 07940\, United States
CATEGORIES:Event,Family
ATTACH;FMTTYPE=image/jpeg:https://metc.org/wp-content/uploads/2021/07/Drop-in-Craft-Grpahic.jpg
ORGANIZER;CN="Museum of Early Trades & Crafts":MAILTO:coordinator@metc.org
END:VEVENT
BEGIN:VEVENT
DTSTART;TZID=America/New_York:20210729T110000
DTEND;TZID=America/New_York:20210729T150000
DTSTAMP:20260422T225748
CREATED:20210722T153014Z
LAST-MODIFIED:20210722T153014Z
UID:21704-1627556400-1627570800@metc.org
SUMMARY:Drop In Day: Hidden Treasures of METC
DESCRIPTION:Join us for a collaborative workspace for caregivers and children ages 6 and under.  On July 1\, play with blocks\, puzzles\, and beads\, get creative with coloring\, build with Legos\, and more! $10 per family\, free for members.
URL:https://metc.org/event/drop-in-day-hidden-treasures-of-metc/
LOCATION:Museum of Early Trades & Crafts\, 9 Main Street\, Madison\, NJ\, 07940\, United States
CATEGORIES:Event,Family
ATTACH;FMTTYPE=image/png:https://metc.org/wp-content/uploads/2021/07/Hidden-Treasures-Graphic-Drop-In.png
ORGANIZER;CN="Museum of Early Trades & Crafts":MAILTO:coordinator@metc.org
END:VEVENT
BEGIN:VEVENT
DTSTART;TZID=America/New_York:20210723T180000
DTEND;TZID=America/New_York:20210723T200000
DTSTAMP:20260422T225748
CREATED:20210324T143616Z
LAST-MODIFIED:20210324T143616Z
UID:19716-1627063200-1627070400@metc.org
SUMMARY:Downtown Concert Series: Los Orquestra Nueve Del Sabor
DESCRIPTION:Join us for a collaborative workspace for caregivers and children ages 6 and under.  On July 1\, play with blocks\, puzzles\, and beads\, get creative with coloring\, build with Legos\, and more! $10 per family\, free for members.
URL:https://metc.org/event/downtown-concert-series-los-orquestra-nueve-del-sabor/
LOCATION:Museum of Early Trades & Crafts\, 9 Main Street\, Madison\, NJ\, 07940\, United States
CATEGORIES:Event
ATTACH;FMTTYPE=image/jpeg:https://metc.org/wp-content/uploads/2021/03/Concert-Series-Thumbnail.jpg
ORGANIZER;CN="Museum of Early Trades & Crafts":MAILTO:coordinator@metc.org
END:VEVENT
BEGIN:VEVENT
DTSTART;TZID=America/New_York:20210717T130000
DTEND;TZID=America/New_York:20210717T160000
DTSTAMP:20260422T225748
CREATED:20210324T175733Z
LAST-MODIFIED:20210324T175733Z
UID:19727-1626526800-1626537600@metc.org
SUMMARY:Discovery Family Fun Day
DESCRIPTION:Join us for a collaborative workspace for caregivers and children ages 6 and under.  On July 1\, play with blocks\, puzzles\, and beads\, get creative with coloring\, build with Legos\, and more! $10 per family\, free for members.
URL:https://metc.org/event/family-fun-day/
LOCATION:Museum of Early Trades & Crafts\, 9 Main Street\, Madison\, NJ\, 07940\, United States
CATEGORIES:Event,Family
ATTACH;FMTTYPE=image/png:https://metc.org/wp-content/uploads/2021/03/Discovery-Day-1.png
ORGANIZER;CN="Museum of Early Trades & Crafts":MAILTO:coordinator@metc.org
END:VEVENT
BEGIN:VEVENT
DTSTART;TZID=America/New_York:20210709T180000
DTEND;TZID=America/New_York:20210709T200000
DTSTAMP:20260422T225748
CREATED:20210324T143425Z
LAST-MODIFIED:20210324T143425Z
UID:19714-1625853600-1625860800@metc.org
SUMMARY:Downtown Concert Series: House of Hamill
DESCRIPTION:Join us for a collaborative workspace for caregivers and children ages 6 and under.  On July 1\, play with blocks\, puzzles\, and beads\, get creative with coloring\, build with Legos\, and more! $10 per family\, free for members.
URL:https://metc.org/event/downtown-concert-series-house-of-hamill/
LOCATION:Museum of Early Trades & Crafts\, 9 Main Street\, Madison\, NJ\, 07940\, United States
CATEGORIES:Event
ATTACH;FMTTYPE=image/jpeg:https://metc.org/wp-content/uploads/2021/03/Concert-Series-Thumbnail.jpg
ORGANIZER;CN="Museum of Early Trades & Crafts":MAILTO:coordinator@metc.org
END:VEVENT
BEGIN:VEVENT
DTSTART;TZID=America/New_York:20210708T110000
DTEND;TZID=America/New_York:20210708T150000
DTSTAMP:20260422T225748
CREATED:20210628T140633Z
LAST-MODIFIED:20210628T140633Z
UID:21135-1625742000-1625756400@metc.org
SUMMARY:Summer Drop In Craft: Hot Air Balloons
DESCRIPTION:Join us for a collaborative workspace for caregivers and children ages 6 and under.  On July 1\, play with blocks\, puzzles\, and beads\, get creative with coloring\, build with Legos\, and more! $10 per family\, free for members.
URL:https://metc.org/event/summer-drop-in-craft-hot-air-balloons/
LOCATION:Education Annex\, 23 Main Street\, Madison\, NJ\, 07940\, United States
CATEGORIES:Event,Family
ATTACH;FMTTYPE=image/jpeg:https://metc.org/wp-content/uploads/2021/06/Hot-Air-Balloon-Calendar-Post.jpg
ORGANIZER;CN="Museum of Early Trades & Crafts":MAILTO:coordinator@metc.org
END:VEVENT
BEGIN:VEVENT
DTSTART;TZID=America/New_York:20210706T100000
DTEND;TZID=America/New_York:20210706T160000
DTSTAMP:20260422T225748
CREATED:20210628T143548Z
LAST-MODIFIED:20210628T143548Z
UID:21157-1625565600-1625587200@metc.org
SUMMARY:Uncovered: Hidden Treasures from METC's Permanent Collection Opens!
DESCRIPTION:Join us for a collaborative workspace for caregivers and children ages 6 and under.  On July 1\, play with blocks\, puzzles\, and beads\, get creative with coloring\, build with Legos\, and more! $10 per family\, free for members.
URL:https://metc.org/event/uncovered-hidden-treasures-from-metcs-permanent-collection-opens/
LOCATION:Museum of Early Trades & Crafts\, 9 Main Street\, Madison\, NJ\, 07940\, United States
CATEGORIES:Event,Exhibit
ATTACH;FMTTYPE=image/jpeg:https://metc.org/wp-content/uploads/2021/06/unocvered-web.jpg
ORGANIZER;CN="Museum of Early Trades & Crafts":MAILTO:coordinator@metc.org
END:VEVENT
BEGIN:VEVENT
DTSTART;TZID=America/New_York:20210625T180000
DTEND;TZID=America/New_York:20210625T200000
DTSTAMP:20260422T225748
CREATED:20210324T143258Z
LAST-MODIFIED:20210324T143258Z
UID:19711-1624644000-1624651200@metc.org
SUMMARY:Downtown Concert Series: Jumping the Gun
DESCRIPTION:Join us for a collaborative workspace for caregivers and children ages 6 and under.  On July 1\, play with blocks\, puzzles\, and beads\, get creative with coloring\, build with Legos\, and more! $10 per family\, free for members.
URL:https://metc.org/event/downtown-concert-series-jumping-the-gun/
LOCATION:Museum of Early Trades & Crafts\, 9 Main Street\, Madison\, NJ\, 07940\, United States
CATEGORIES:Event
ATTACH;FMTTYPE=image/jpeg:https://metc.org/wp-content/uploads/2021/03/Concert-Series-Thumbnail.jpg
ORGANIZER;CN="Museum of Early Trades & Crafts":MAILTO:coordinator@metc.org
END:VEVENT
BEGIN:VEVENT
DTSTART;TZID=America/New_York:20210623T190000
DTEND;TZID=America/New_York:20210623T200000
DTSTAMP:20260422T225748
CREATED:20210514T171517Z
LAST-MODIFIED:20210514T171517Z
UID:20997-1624474800-1624478400@metc.org
SUMMARY:“Remember the Ladies”: Women\, Health & Medicine during the American Revolution
DESCRIPTION:Join us for a collaborative workspace for caregivers and children ages 6 and under.  On July 1\, play with blocks\, puzzles\, and beads\, get creative with coloring\, build with Legos\, and more! $10 per family\, free for members.
URL:https://metc.org/event/remember-the-ladies-women-health-medicine-during-the-american-revolution/
LOCATION:Virtual Via Zoom
CATEGORIES:Event,Exhibit
ATTACH;FMTTYPE=image/jpeg:https://metc.org/wp-content/uploads/2021/05/Virtual-Remember-the-Ladies-Graphic.jpg
ORGANIZER;CN="Museum of Early Trades & Crafts":MAILTO:coordinator@metc.org
END:VEVENT
BEGIN:VEVENT
DTSTART;VALUE=DATE:20210605
DTEND;VALUE=DATE:20210606
DTSTAMP:20260422T225748
CREATED:20210401T155732Z
LAST-MODIFIED:20210401T155732Z
UID:19985-1622851200-1622937599@metc.org
SUMMARY:Hidden Figures of Madison
DESCRIPTION:Join us for a collaborative workspace for caregivers and children ages 6 and under.  On July 1\, play with blocks\, puzzles\, and beads\, get creative with coloring\, build with Legos\, and more! $10 per family\, free for members.
URL:https://metc.org/event/hidden-figures-of-madison/
LOCATION:Museum of Early Trades & Crafts\, 9 Main Street\, Madison\, NJ\, 07940\, United States
CATEGORIES:Event,Family
ATTACH;FMTTYPE=image/jpeg:https://metc.org/wp-content/uploads/2021/04/Hidden-Figures-Calendar.jpg
ORGANIZER;CN="Museum of Early Trades & Crafts":MAILTO:coordinator@metc.org
END:VEVENT
BEGIN:VEVENT
DTSTART;TZID=America/New_York:20210522T120000
DTEND;TZID=America/New_York:20210522T140000
DTSTAMP:20260422T225748
CREATED:20210506T174224Z
LAST-MODIFIED:20210506T174224Z
UID:20987-1621684800-1621692000@metc.org
SUMMARY:Exhibit Open House
DESCRIPTION:Join us for a collaborative workspace for caregivers and children ages 6 and under.  On July 1\, play with blocks\, puzzles\, and beads\, get creative with coloring\, build with Legos\, and more! $10 per family\, free for members.
URL:https://metc.org/event/exhibit-open-house-may-22/
LOCATION:Museum of Early Trades & Crafts\, 9 Main Street\, Madison\, NJ\, 07940\, United States
CATEGORIES:Event,Exhibit
ATTACH;FMTTYPE=image/jpeg:https://metc.org/wp-content/uploads/2021/05/exhibit-open-house-graphic.jpg
ORGANIZER;CN="Museum of Early Trades & Crafts":MAILTO:coordinator@metc.org
END:VEVENT
BEGIN:VEVENT
DTSTART;TZID=America/New_York:20210521T120000
DTEND;TZID=America/New_York:20210521T140000
DTSTAMP:20260422T225748
CREATED:20210506T170053Z
LAST-MODIFIED:20210506T170053Z
UID:20983-1621598400-1621605600@metc.org
SUMMARY:Exhibit Open House
DESCRIPTION:Join us for a collaborative workspace for caregivers and children ages 6 and under.  On July 1\, play with blocks\, puzzles\, and beads\, get creative with coloring\, build with Legos\, and more! $10 per family\, free for members.
URL:https://metc.org/event/exhibit-open-house-may-21/
LOCATION:Museum of Early Trades & Crafts\, 9 Main Street\, Madison\, NJ\, 07940\, United States
CATEGORIES:Event,Exhibit
ATTACH;FMTTYPE=image/jpeg:https://metc.org/wp-content/uploads/2021/05/exhibit-open-house-graphic.jpg
ORGANIZER;CN="Museum of Early Trades & Crafts":MAILTO:coordinator@metc.org
END:VEVENT
BEGIN:VEVENT
DTSTART;TZID=America/New_York:20210520T130000
DTEND;TZID=America/New_York:20210520T140000
DTSTAMP:20260422T225748
CREATED:20210416T191732Z
LAST-MODIFIED:20210416T191732Z
UID:20171-1621515600-1621519200@metc.org
SUMMARY:Homeschool Program: Light!
DESCRIPTION:Join us for a collaborative workspace for caregivers and children ages 6 and under.  On July 1\, play with blocks\, puzzles\, and beads\, get creative with coloring\, build with Legos\, and more! $10 per family\, free for members.
URL:https://metc.org/event/light/
LOCATION:Education Annex\, 23 Main Street\, Madison\, NJ\, 07940\, United States
CATEGORIES:homeschool
ATTACH;FMTTYPE=image/jpeg:https://metc.org/wp-content/uploads/2021/04/Light-Homeschool-program.jpg
ORGANIZER;CN="Museum of Early Trades & Crafts":MAILTO:coordinator@metc.org
END:VEVENT
BEGIN:VEVENT
DTSTART;TZID=America/New_York:20210519T190000
DTEND;TZID=America/New_York:20210519T200000
DTSTAMP:20260422T225748
CREATED:20210420T183629Z
LAST-MODIFIED:20210420T183629Z
UID:20730-1621450800-1621454400@metc.org
SUMMARY:Behind the Scaffolding with EverGreene Architectural Arts
DESCRIPTION:Join us for a collaborative workspace for caregivers and children ages 6 and under.  On July 1\, play with blocks\, puzzles\, and beads\, get creative with coloring\, build with Legos\, and more! $10 per family\, free for members.
URL:https://metc.org/event/behind-the-scaffolding-with-evergreene-architectural-arts/
LOCATION:Virtual Via Zoom
CATEGORIES:Event
ATTACH;FMTTYPE=image/jpeg:https://metc.org/wp-content/uploads/2021/04/Behind-the-Scaffolding-Image.jpg
END:VEVENT
BEGIN:VEVENT
DTSTART;TZID=America/New_York:20210512T123000
DTEND;TZID=America/New_York:20210512T140000
DTSTAMP:20260422T225748
CREATED:20210416T191626Z
LAST-MODIFIED:20210416T191626Z
UID:20167-1620822600-1620828000@metc.org
SUMMARY:Homeschool Program: Simple Machines
DESCRIPTION:Join us for a collaborative workspace for caregivers and children ages 6 and under.  On July 1\, play with blocks\, puzzles\, and beads\, get creative with coloring\, build with Legos\, and more! $10 per family\, free for members.
URL:https://metc.org/event/simple-machines/
LOCATION:Education Annex\, 23 Main Street\, Madison\, NJ\, 07940\, United States
CATEGORIES:homeschool
ATTACH;FMTTYPE=image/jpeg:https://metc.org/wp-content/uploads/2021/04/simple-machines.jpg
ORGANIZER;CN="Museum of Early Trades & Crafts":MAILTO:coordinator@metc.org
END:VEVENT
BEGIN:VEVENT
DTSTART;TZID=America/New_York:20210505T123000
DTEND;TZID=America/New_York:20210505T133000
DTSTAMP:20260422T225748
CREATED:20210416T191422Z
LAST-MODIFIED:20210416T191422Z
UID:20164-1620217800-1620221400@metc.org
SUMMARY:Homeschool Program: Journey by Water
DESCRIPTION:Join us for a collaborative workspace for caregivers and children ages 6 and under.  On July 1\, play with blocks\, puzzles\, and beads\, get creative with coloring\, build with Legos\, and more! $10 per family\, free for members.
URL:https://metc.org/event/journey-by-water/
LOCATION:Education Annex\, 23 Main Street\, Madison\, NJ\, 07940\, United States
CATEGORIES:homeschool
ATTACH;FMTTYPE=image/jpeg:https://metc.org/wp-content/uploads/2021/04/Ship-homeschool-program.jpg
ORGANIZER;CN="Museum of Early Trades & Crafts":MAILTO:coordinator@metc.org
END:VEVENT
BEGIN:VEVENT
DTSTART;TZID=America/New_York:20210427T130000
DTEND;TZID=America/New_York:20210427T140000
DTSTAMP:20260422T225748
CREATED:20210416T182311Z
LAST-MODIFIED:20210416T182311Z
UID:20142-1619528400-1619532000@metc.org
SUMMARY:Homeschool Program: Nature Art
DESCRIPTION:Join us for a collaborative workspace for caregivers and children ages 6 and under.  On July 1\, play with blocks\, puzzles\, and beads\, get creative with coloring\, build with Legos\, and more! $10 per family\, free for members.
URL:https://metc.org/event/nature-art/
LOCATION:Education Annex\, 23 Main Street\, Madison\, NJ\, 07940\, United States
CATEGORIES:homeschool
ATTACH;FMTTYPE=image/jpeg:https://metc.org/wp-content/uploads/2021/04/Nature-Art.jpg
ORGANIZER;CN="Museum of Early Trades & Crafts":MAILTO:coordinator@metc.org
END:VEVENT
BEGIN:VEVENT
DTSTART;TZID=America/New_York:20210424T110000
DTEND;TZID=America/New_York:20210424T123000
DTSTAMP:20260422T225749
CREATED:20210318T194916Z
LAST-MODIFIED:20210318T194916Z
UID:18891-1619262000-1619267400@metc.org
SUMMARY:Architectural Walking Tour
DESCRIPTION:Join us for a collaborative workspace for caregivers and children ages 6 and under.  On July 1\, play with blocks\, puzzles\, and beads\, get creative with coloring\, build with Legos\, and more! $10 per family\, free for members.
URL:https://metc.org/event/architecture-walking-tour/
LOCATION:Museum of Early Trades & Crafts\, 9 Main Street\, Madison\, NJ\, 07940\, United States
CATEGORIES:Event,Family
ATTACH;FMTTYPE=image/jpeg:https://metc.org/wp-content/uploads/2021/03/Arch-tour-Thumbnail.jpg
ORGANIZER;CN="Museum of Early Trades & Crafts":MAILTO:coordinator@metc.org
END:VEVENT
BEGIN:VEVENT
DTSTART;TZID=America/New_York:20210407T130000
DTEND;TZID=America/New_York:20210407T143000
DTSTAMP:20260422T225749
CREATED:20210307T060044Z
LAST-MODIFIED:20210307T060044Z
UID:18881-1617800400-1617805800@metc.org
SUMMARY:Homeschool Program: A Day in the Life
DESCRIPTION:Join us for a collaborative workspace for caregivers and children ages 6 and under.  On July 1\, play with blocks\, puzzles\, and beads\, get creative with coloring\, build with Legos\, and more! $10 per family\, free for members.
URL:https://metc.org/event/homeschool-program-a-day-in-the-life/
LOCATION:Education Annex\, 23 Main Street\, Madison\, NJ\, 07940\, United States
CATEGORIES:Family
ATTACH;FMTTYPE=image/jpeg:https://metc.org/wp-content/uploads/2021/03/Home-school-event-image.jpg
ORGANIZER;CN="Museum of Early Trades & Crafts":MAILTO:coordinator@metc.org
END:VEVENT
BEGIN:VEVENT
DTSTART;TZID=America/New_York:20210327T100000
DTEND;TZID=America/New_York:20210327T170000
DTSTAMP:20260422T225749
CREATED:20210324T175926Z
LAST-MODIFIED:20210324T175926Z
UID:19730-1616839200-1616864400@metc.org
SUMMARY:Virtual Story Time with METC
DESCRIPTION:Join us for a collaborative workspace for caregivers and children ages 6 and under.  On July 1\, play with blocks\, puzzles\, and beads\, get creative with coloring\, build with Legos\, and more! $10 per family\, free for members.
URL:https://metc.org/event/virtual-story-time-with-metc-2/
LOCATION:Virtual Via Zoom
ATTACH;FMTTYPE=image/jpeg:https://metc.org/wp-content/uploads/2021/03/Virtual-Story-Time-1200-x-1200.jpg
ORGANIZER;CN="Museum of Early Trades & Crafts":MAILTO:coordinator@metc.org
END:VEVENT
BEGIN:VEVENT
DTSTART;TZID=America/New_York:20210319T160000
DTEND;TZID=America/New_York:20210320T160000
DTSTAMP:20260422T225749
CREATED:20210311T005505Z
LAST-MODIFIED:20210311T005505Z
UID:17926-1616169600-1616256000@metc.org
SUMMARY:Virtual NJ Makers Day: Inventor’s Workshop
DESCRIPTION:Join us for a collaborative workspace for caregivers and children ages 6 and under.  On July 1\, play with blocks\, puzzles\, and beads\, get creative with coloring\, build with Legos\, and more! $10 per family\, free for members.
URL:https://metc.org/event/virtual-nj-makers-day-inventors-workshop/
LOCATION:Virtual Via Zoom
CATEGORIES:Family
ATTACH;FMTTYPE=image/jpeg:https://metc.org/wp-content/uploads/2021/03/Inventors-Workshop-at-METC-Banner-1200-x-1200-px.jpg
ORGANIZER;CN="Museum of Early Trades & Crafts":MAILTO:coordinator@metc.org
END:VEVENT
BEGIN:VEVENT
DTSTART;TZID=America/New_York:20210318T190000
DTEND;TZID=America/New_York:20210318T200000
DTSTAMP:20260422T225749
CREATED:20210311T004507Z
LAST-MODIFIED:20210311T004507Z
UID:17923-1616094000-1616097600@metc.org
SUMMARY:Virtual Program: Medical Care During the Hard Winter
DESCRIPTION:Join us for a collaborative workspace for caregivers and children ages 6 and under.  On July 1\, play with blocks\, puzzles\, and beads\, get creative with coloring\, build with Legos\, and more! $10 per family\, free for members.
URL:https://metc.org/event/virtual-program-medical-care-during-the-hard-winter/
LOCATION:Virtual Via Zoom
CATEGORIES:Event,Exhibit
ATTACH;FMTTYPE=image/jpeg:https://metc.org/wp-content/uploads/2021/03/Medical-Care-During-the-Hard-Winter-at-METC-Banner-1200-x-1200-px.jpg
ORGANIZER;CN="Museum of Early Trades & Crafts":MAILTO:coordinator@metc.org
END:VEVENT
BEGIN:VEVENT
DTSTART;TZID=America/New_York:20210306T100000
DTEND;TZID=America/New_York:20210306T170000
DTSTAMP:20260422T225749
CREATED:20210305T165755Z
LAST-MODIFIED:20210305T165755Z
UID:16803-1615024800-1615050000@metc.org
SUMMARY:Virtual Story Time with METC
DESCRIPTION:Join us for a collaborative workspace for caregivers and children ages 6 and under.  On July 1\, play with blocks\, puzzles\, and beads\, get creative with coloring\, build with Legos\, and more! $10 per family\, free for members.
URL:https://metc.org/event/virtual-story-time-with-metc/
LOCATION:Virtual Via Zoom
ATTACH;FMTTYPE=image/jpeg:https://metc.org/wp-content/uploads/2021/03/Virtual-Story-Time-1200-x-1200.jpg
ORGANIZER;CN="Museum of Early Trades & Crafts":MAILTO:coordinator@metc.org
END:VEVENT
END:VCALENDAR