BEGIN:VCALENDAR
VERSION:2.0
PRODID:-//Museum of Early Trades &amp; Crafts - ECPv6.15.20//NONSGML v1.0//EN
CALSCALE:GREGORIAN
METHOD:PUBLISH
X-WR-CALNAME:Museum of Early Trades &amp; Crafts
X-ORIGINAL-URL:https://metc.org
X-WR-CALDESC:Events for Museum of Early Trades &amp; Crafts
REFRESH-INTERVAL;VALUE=DURATION:PT1H
X-Robots-Tag:noindex
X-PUBLISHED-TTL:PT1H
BEGIN:VTIMEZONE
TZID:America/New_York
BEGIN:DAYLIGHT
TZOFFSETFROM:-0500
TZOFFSETTO:-0400
TZNAME:EDT
DTSTART:20240310T070000
END:DAYLIGHT
BEGIN:STANDARD
TZOFFSETFROM:-0400
TZOFFSETTO:-0500
TZNAME:EST
DTSTART:20241103T060000
END:STANDARD
BEGIN:DAYLIGHT
TZOFFSETFROM:-0500
TZOFFSETTO:-0400
TZNAME:EDT
DTSTART:20250309T070000
END:DAYLIGHT
BEGIN:STANDARD
TZOFFSETFROM:-0400
TZOFFSETTO:-0500
TZNAME:EST
DTSTART:20251102T060000
END:STANDARD
BEGIN:DAYLIGHT
TZOFFSETFROM:-0500
TZOFFSETTO:-0400
TZNAME:EDT
DTSTART:20260308T070000
END:DAYLIGHT
BEGIN:STANDARD
TZOFFSETFROM:-0400
TZOFFSETTO:-0500
TZNAME:EST
DTSTART:20261101T060000
END:STANDARD
END:VTIMEZONE
BEGIN:VEVENT
DTSTART;TZID=America/New_York:20251004T110000
DTEND;TZID=America/New_York:20251004T150000
DTSTAMP:20260422T232916
CREATED:20250905T173729Z
LAST-MODIFIED:20250905T182141Z
UID:28653-1759575600-1759590000@metc.org
SUMMARY:Bottle Hill Day
DESCRIPTION:Join us for a collaborative workspace for caregivers and children ages 6 and under.  On July 1\, play with blocks\, puzzles\, and beads\, get creative with coloring\, build with Legos\, and more! $10 per family\, free for members.
URL:https://metc.org/event/bottlehill/
LOCATION:Museum of Early Trades & Crafts\, 9 Main Street\, Madison\, NJ\, 07940\, United States
CATEGORIES:Event,Family
ATTACH;FMTTYPE=image/png:https://metc.org/wp-content/uploads/2025/09/bottlehillday-1.png
ORGANIZER;CN="Museum of Early Trades & Crafts":MAILTO:coordinator@metc.org
END:VEVENT
BEGIN:VEVENT
DTSTART;TZID=America/New_York:20251023T150000
DTEND;TZID=America/New_York:20251023T180000
DTSTAMP:20260422T232916
CREATED:20250905T183834Z
LAST-MODIFIED:20250905T184137Z
UID:28665-1761231600-1761242400@metc.org
SUMMARY:Holiday Craft: Spooky Halloween
DESCRIPTION:Join us for a collaborative workspace for caregivers and children ages 6 and under.  On July 1\, play with blocks\, puzzles\, and beads\, get creative with coloring\, build with Legos\, and more! $10 per family\, free for members.
URL:https://metc.org/event/halloween-2025/
LOCATION:Education Annex\, 23 Main Street\, Madison\, NJ\, 07940\, United States
CATEGORIES:Event,Family
ATTACH;FMTTYPE=image/png:https://metc.org/wp-content/uploads/2025/09/halloween-web.png
ORGANIZER;CN="Museum of Early Trades & Crafts":MAILTO:coordinator@metc.org
END:VEVENT
END:VCALENDAR