BEGIN:VCALENDAR
VERSION:2.0
PRODID:-//Museum of Early Trades &amp; Crafts - ECPv6.15.20//NONSGML v1.0//EN
CALSCALE:GREGORIAN
METHOD:PUBLISH
X-ORIGINAL-URL:https://metc.org
X-WR-CALDESC:Events for Museum of Early Trades &amp; Crafts
REFRESH-INTERVAL;VALUE=DURATION:PT1H
X-Robots-Tag:noindex
X-PUBLISHED-TTL:PT1H
BEGIN:VTIMEZONE
TZID:America/New_York
BEGIN:DAYLIGHT
TZOFFSETFROM:-0500
TZOFFSETTO:-0400
TZNAME:EDT
DTSTART:20200308T070000
END:DAYLIGHT
BEGIN:STANDARD
TZOFFSETFROM:-0400
TZOFFSETTO:-0500
TZNAME:EST
DTSTART:20201101T060000
END:STANDARD
BEGIN:DAYLIGHT
TZOFFSETFROM:-0500
TZOFFSETTO:-0400
TZNAME:EDT
DTSTART:20210314T070000
END:DAYLIGHT
BEGIN:STANDARD
TZOFFSETFROM:-0400
TZOFFSETTO:-0500
TZNAME:EST
DTSTART:20211107T060000
END:STANDARD
BEGIN:DAYLIGHT
TZOFFSETFROM:-0500
TZOFFSETTO:-0400
TZNAME:EDT
DTSTART:20220313T070000
END:DAYLIGHT
BEGIN:STANDARD
TZOFFSETFROM:-0400
TZOFFSETTO:-0500
TZNAME:EST
DTSTART:20221106T060000
END:STANDARD
END:VTIMEZONE
BEGIN:VEVENT
DTSTART;TZID=America/New_York:20210805T110000
DTEND;TZID=America/New_York:20210805T150000
DTSTAMP:20260422T141943
CREATED:20210719T155852Z
LAST-MODIFIED:20210719T155852Z
UID:21690-1628161200-1628175600@metc.org
SUMMARY:Drop-in Craft: Alice in Wonderland
DESCRIPTION:Join us for a collaborative workspace for caregivers and children ages 6 and under.  On July 1\, play with blocks\, puzzles\, and beads\, get creative with coloring\, build with Legos\, and more! $10 per family\, free for members.
URL:https://metc.org/event/drop-in-craft-alice-in-wonderland/
LOCATION:Education Annex\, 23 Main Street\, Madison\, NJ\, 07940\, United States
CATEGORIES:Event,Family
ATTACH;FMTTYPE=image/jpeg:https://metc.org/wp-content/uploads/2021/07/Drop-in-Craft-Grpahic.jpg
ORGANIZER;CN="Museum of Early Trades & Crafts":MAILTO:coordinator@metc.org
END:VEVENT
BEGIN:VEVENT
DTSTART;TZID=America/New_York:20210818T110000
DTEND;TZID=America/New_York:20210818T150000
DTSTAMP:20260422T141943
CREATED:20210729T134036Z
LAST-MODIFIED:20210729T134036Z
UID:21740-1629284400-1629298800@metc.org
SUMMARY:Drop In Craft: Back to School
DESCRIPTION:Join us for a collaborative workspace for caregivers and children ages 6 and under.  On July 1\, play with blocks\, puzzles\, and beads\, get creative with coloring\, build with Legos\, and more! $10 per family\, free for members.
URL:https://metc.org/event/drop-in-craft-back-to-school/
LOCATION:Education Annex\, 23 Main Street\, Madison\, NJ\, 07940\, United States
CATEGORIES:Event,Family
ATTACH;FMTTYPE=image/png:https://metc.org/wp-content/uploads/2021/07/drop-in-back-to-school.png
ORGANIZER;CN="Museum of Early Trades & Crafts":MAILTO:coordinator@metc.org
END:VEVENT
BEGIN:VEVENT
DTSTART;TZID=America/New_York:20210821T110000
DTEND;TZID=America/New_York:20210821T123000
DTSTAMP:20260422T141943
CREATED:20210604T193232Z
LAST-MODIFIED:20210604T193232Z
UID:21024-1629543600-1629549000@metc.org
SUMMARY:Architectural Walking Tour
DESCRIPTION:Join us for a collaborative workspace for caregivers and children ages 6 and under.  On July 1\, play with blocks\, puzzles\, and beads\, get creative with coloring\, build with Legos\, and more! $10 per family\, free for members.
URL:https://metc.org/event/duplicated-architectural-walking-tour-18891/
LOCATION:Museum of Early Trades & Crafts\, 9 Main Street\, Madison\, NJ\, 07940\, United States
CATEGORIES:Event,Family
ATTACH;FMTTYPE=image/jpeg:https://metc.org/wp-content/uploads/2021/03/Arch-tour-Thumbnail.jpg
ORGANIZER;CN="Museum of Early Trades & Crafts":MAILTO:coordinator@metc.org
END:VEVENT
END:VCALENDAR