BEGIN:VCALENDAR
VERSION:2.0
PRODID:-//Museum of Early Trades &amp; Crafts - ECPv6.15.20//NONSGML v1.0//EN
CALSCALE:GREGORIAN
METHOD:PUBLISH
X-WR-CALNAME:Museum of Early Trades &amp; Crafts
X-ORIGINAL-URL:https://metc.org
X-WR-CALDESC:Events for Museum of Early Trades &amp; Crafts
REFRESH-INTERVAL;VALUE=DURATION:PT1H
X-Robots-Tag:noindex
X-PUBLISHED-TTL:PT1H
BEGIN:VTIMEZONE
TZID:America/New_York
BEGIN:DAYLIGHT
TZOFFSETFROM:-0500
TZOFFSETTO:-0400
TZNAME:EDT
DTSTART:20200308T070000
END:DAYLIGHT
BEGIN:STANDARD
TZOFFSETFROM:-0400
TZOFFSETTO:-0500
TZNAME:EST
DTSTART:20201101T060000
END:STANDARD
BEGIN:DAYLIGHT
TZOFFSETFROM:-0500
TZOFFSETTO:-0400
TZNAME:EDT
DTSTART:20210314T070000
END:DAYLIGHT
BEGIN:STANDARD
TZOFFSETFROM:-0400
TZOFFSETTO:-0500
TZNAME:EST
DTSTART:20211107T060000
END:STANDARD
BEGIN:DAYLIGHT
TZOFFSETFROM:-0500
TZOFFSETTO:-0400
TZNAME:EDT
DTSTART:20220313T070000
END:DAYLIGHT
BEGIN:STANDARD
TZOFFSETFROM:-0400
TZOFFSETTO:-0500
TZNAME:EST
DTSTART:20221106T060000
END:STANDARD
END:VTIMEZONE
BEGIN:VEVENT
DTSTART;TZID=America/New_York:20211211T110000
DTEND;TZID=America/New_York:20211211T130000
DTSTAMP:20260422T224731
CREATED:20211102T135035Z
LAST-MODIFIED:20211102T135035Z
UID:22195-1639220400-1639227600@metc.org
SUMMARY:Holiday Drop In Craft
DESCRIPTION:Join us for a collaborative workspace for caregivers and children ages 6 and under.  On July 1\, play with blocks\, puzzles\, and beads\, get creative with coloring\, build with Legos\, and more! $10 per family\, free for members.
URL:https://metc.org/event/holiday-drop-in-craft/
LOCATION:Education Annex\, 23 Main Street\, Madison\, NJ\, 07940\, United States
CATEGORIES:BAR,Event,Family
ATTACH;FMTTYPE=image/jpeg:https://metc.org/wp-content/uploads/2021/11/2.jpg
ORGANIZER;CN="Museum of Early Trades & Crafts":MAILTO:coordinator@metc.org
END:VEVENT
END:VCALENDAR