BEGIN:VCALENDAR
VERSION:2.0
PRODID:-//Museum of Early Trades &amp; Crafts - ECPv6.15.20//NONSGML v1.0//EN
CALSCALE:GREGORIAN
METHOD:PUBLISH
X-WR-CALNAME:Museum of Early Trades &amp; Crafts
X-ORIGINAL-URL:https://metc.org
X-WR-CALDESC:Events for Museum of Early Trades &amp; Crafts
REFRESH-INTERVAL;VALUE=DURATION:PT1H
X-Robots-Tag:noindex
X-PUBLISHED-TTL:PT1H
BEGIN:VTIMEZONE
TZID:America/New_York
BEGIN:DAYLIGHT
TZOFFSETFROM:-0500
TZOFFSETTO:-0400
TZNAME:EDT
DTSTART:20250309T070000
END:DAYLIGHT
BEGIN:STANDARD
TZOFFSETFROM:-0400
TZOFFSETTO:-0500
TZNAME:EST
DTSTART:20251102T060000
END:STANDARD
BEGIN:DAYLIGHT
TZOFFSETFROM:-0500
TZOFFSETTO:-0400
TZNAME:EDT
DTSTART:20260308T070000
END:DAYLIGHT
BEGIN:STANDARD
TZOFFSETFROM:-0400
TZOFFSETTO:-0500
TZNAME:EST
DTSTART:20261101T060000
END:STANDARD
BEGIN:DAYLIGHT
TZOFFSETFROM:-0500
TZOFFSETTO:-0400
TZNAME:EDT
DTSTART:20270314T070000
END:DAYLIGHT
BEGIN:STANDARD
TZOFFSETFROM:-0400
TZOFFSETTO:-0500
TZNAME:EST
DTSTART:20271107T060000
END:STANDARD
END:VTIMEZONE
BEGIN:VEVENT
DTSTART;TZID=America/New_York:20260314T130000
DTEND;TZID=America/New_York:20260314T143000
DTSTAMP:20260422T222804
CREATED:20251212T174747Z
LAST-MODIFIED:20260219T183644Z
UID:29073-1773493200-1773498600@metc.org
SUMMARY:Artist Workshop with Mickey Waring
DESCRIPTION:Friedensreich Hundertwasser was an artist who spread his message of life in harmony with nature and the creativity of individual. Join us in the Education Annex on Saturday March 14\, at 1PM with Book Arts Roundtable Artist Mickey Waring to examine his paintings and create one of your own using oil pastels and gold paper highlights (his trademark). This workshop is for ages 16 and older.  About the Artist: Book Arts Roundtable artist Mickey Waring is an art educator\, artist\, and poet. She teaches children and adults\, works in several media\, and has published her poems and an online blog.
URL:https://metc.org/event/artist-workshop-mikeywaring/
LOCATION:Education Annex\, 23 Main Street\, Madison\, NJ\, 07940\, United States
CATEGORIES:BAR,Event,Family
ATTACH;FMTTYPE=image/png:https://metc.org/wp-content/uploads/2025/12/march14workshop-waring.png
ORGANIZER;CN="Museum of Early Trades & Crafts":MAILTO:coordinator@metc.org
END:VEVENT
END:VCALENDAR