BEGIN:VCALENDAR
VERSION:2.0
PRODID:-//Museum of Early Trades &amp; Crafts - ECPv6.15.20//NONSGML v1.0//EN
CALSCALE:GREGORIAN
METHOD:PUBLISH
X-WR-CALNAME:Museum of Early Trades &amp; Crafts
X-ORIGINAL-URL:https://metc.org
X-WR-CALDESC:Events for Museum of Early Trades &amp; Crafts
REFRESH-INTERVAL;VALUE=DURATION:PT1H
X-Robots-Tag:noindex
X-PUBLISHED-TTL:PT1H
BEGIN:VTIMEZONE
TZID:America/New_York
BEGIN:DAYLIGHT
TZOFFSETFROM:-0500
TZOFFSETTO:-0400
TZNAME:EDT
DTSTART:20200308T070000
END:DAYLIGHT
BEGIN:STANDARD
TZOFFSETFROM:-0400
TZOFFSETTO:-0500
TZNAME:EST
DTSTART:20201101T060000
END:STANDARD
BEGIN:DAYLIGHT
TZOFFSETFROM:-0500
TZOFFSETTO:-0400
TZNAME:EDT
DTSTART:20210314T070000
END:DAYLIGHT
BEGIN:STANDARD
TZOFFSETFROM:-0400
TZOFFSETTO:-0500
TZNAME:EST
DTSTART:20211107T060000
END:STANDARD
BEGIN:DAYLIGHT
TZOFFSETFROM:-0500
TZOFFSETTO:-0400
TZNAME:EDT
DTSTART:20220313T070000
END:DAYLIGHT
BEGIN:STANDARD
TZOFFSETFROM:-0400
TZOFFSETTO:-0500
TZNAME:EST
DTSTART:20221106T060000
END:STANDARD
END:VTIMEZONE
BEGIN:VEVENT
DTSTART;TZID=America/New_York:20210925T140000
DTEND;TZID=America/New_York:20210925T153000
DTSTAMP:20260422T143056
CREATED:20210803T164924Z
LAST-MODIFIED:20210803T164924Z
UID:21784-1632578400-1632583800@metc.org
SUMMARY:Lenape Lifeways: Introducing the First People of Pennsylvania\, New Jersey & Delaware
DESCRIPTION:Join us for a collaborative workspace for caregivers and children ages 6 and under.  On July 1\, play with blocks\, puzzles\, and beads\, get creative with coloring\, build with Legos\, and more! $10 per family\, free for members.
URL:https://metc.org/event/lenape-lifeways/
LOCATION:Museum of Early Trades & Crafts\, 9 Main Street\, Madison\, NJ\, 07940\, United States
CATEGORIES:Event,Family
ATTACH;FMTTYPE=image/jpeg:https://metc.org/wp-content/uploads/2021/07/Lenape-Web-thumnail.jpg
ORGANIZER;CN="Museum of Early Trades & Crafts":MAILTO:coordinator@metc.org
END:VEVENT
END:VCALENDAR